BEGIN:VCALENDAR
VERSION:2.0
PRODID:-//Highland Road Park Observatory - ECPv6.15.20//NONSGML v1.0//EN
CALSCALE:GREGORIAN
METHOD:PUBLISH
X-ORIGINAL-URL:https://hrpo.lsu.edu
X-WR-CALDESC:Events for Highland Road Park Observatory
REFRESH-INTERVAL;VALUE=DURATION:PT1H
X-Robots-Tag:noindex
X-PUBLISHED-TTL:PT1H
BEGIN:VTIMEZONE
TZID:America/Chicago
BEGIN:DAYLIGHT
TZOFFSETFROM:-0600
TZOFFSETTO:-0500
TZNAME:CDT
DTSTART:20230312T080000
END:DAYLIGHT
BEGIN:STANDARD
TZOFFSETFROM:-0500
TZOFFSETTO:-0600
TZNAME:CST
DTSTART:20231105T070000
END:STANDARD
BEGIN:DAYLIGHT
TZOFFSETFROM:-0600
TZOFFSETTO:-0500
TZNAME:CDT
DTSTART:20240310T080000
END:DAYLIGHT
BEGIN:STANDARD
TZOFFSETFROM:-0500
TZOFFSETTO:-0600
TZNAME:CST
DTSTART:20241103T070000
END:STANDARD
BEGIN:DAYLIGHT
TZOFFSETFROM:-0600
TZOFFSETTO:-0500
TZNAME:CDT
DTSTART:20250309T080000
END:DAYLIGHT
BEGIN:STANDARD
TZOFFSETFROM:-0500
TZOFFSETTO:-0600
TZNAME:CST
DTSTART:20251102T070000
END:STANDARD
END:VTIMEZONE
BEGIN:VEVENT
DTSTART;TZID=America/Chicago:20241209T190000
DTEND;TZID=America/Chicago:20241209T210000
DTSTAMP:20260425T152308
CREATED:20241205T224847Z
LAST-MODIFIED:20241205T224847Z
UID:4516-1733770800-1733778000@hrpo.lsu.edu
SUMMARY:Baton Rouge Astronomical Society Meeting
DESCRIPTION:For over four decades the Baton Rouge Astronomical Society has educated countless numbers of citizens in the joys of planetary and deep-sky gazing\, and factors to consider when buying a pair of binoculars or a telescope. Over the years BRAS members have constructed their own telescopes and photographic platforms; imaged comets; earned observing certificates and discovered asteroids. Anyone interested in learning more about BRAS is invited to attend. [For ages fourteen and older. No admission fee.]
URL:https://hrpo.lsu.edu/event/baton-rouge-astronomical-society-meeting-20/
LOCATION:Highland Road Park Observatory
CATEGORIES:December 2024
END:VEVENT
END:VCALENDAR