BEGIN:VCALENDAR
VERSION:2.0
PRODID:-//Highland Road Park Observatory - ECPv6.15.20//NONSGML v1.0//EN
CALSCALE:GREGORIAN
METHOD:PUBLISH
X-WR-CALNAME:Highland Road Park Observatory
X-ORIGINAL-URL:https://hrpo.lsu.edu
X-WR-CALDESC:Events for Highland Road Park Observatory
REFRESH-INTERVAL;VALUE=DURATION:PT1H
X-Robots-Tag:noindex
X-PUBLISHED-TTL:PT1H
BEGIN:VTIMEZONE
TZID:America/Chicago
BEGIN:DAYLIGHT
TZOFFSETFROM:-0600
TZOFFSETTO:-0500
TZNAME:CDT
DTSTART:20230312T080000
END:DAYLIGHT
BEGIN:STANDARD
TZOFFSETFROM:-0500
TZOFFSETTO:-0600
TZNAME:CST
DTSTART:20231105T070000
END:STANDARD
BEGIN:DAYLIGHT
TZOFFSETFROM:-0600
TZOFFSETTO:-0500
TZNAME:CDT
DTSTART:20240310T080000
END:DAYLIGHT
BEGIN:STANDARD
TZOFFSETFROM:-0500
TZOFFSETTO:-0600
TZNAME:CST
DTSTART:20241103T070000
END:STANDARD
BEGIN:DAYLIGHT
TZOFFSETFROM:-0600
TZOFFSETTO:-0500
TZNAME:CDT
DTSTART:20250309T080000
END:DAYLIGHT
BEGIN:STANDARD
TZOFFSETFROM:-0500
TZOFFSETTO:-0600
TZNAME:CST
DTSTART:20251102T070000
END:STANDARD
END:VTIMEZONE
BEGIN:VEVENT
DTSTART;TZID=America/Chicago:20241221T100000
DTEND;TZID=America/Chicago:20241221T120000
DTSTAMP:20260423T191550
CREATED:20241214T004929Z
LAST-MODIFIED:20241214T004929Z
UID:4567-1734775200-1734782400@hrpo.lsu.edu
SUMMARY:Science Academy: "The Language of Astronomy"
DESCRIPTION:The etymology of a word is basically its “biography”. Cadets will learn the origins of the words that denote the objects and concepts prevalent in astronomy. [For ages eight to twelve. $5 per EBR-Parish Cadet; $6 per other-Parish Cadet. To register go to www.brec.org\, access the registration function and use Activity Number 531990.]
URL:https://hrpo.lsu.edu/event/science-academy-the-language-of-astronomy/
LOCATION:Highland Road Park Observatory
CATEGORIES:December 2024
END:VEVENT
BEGIN:VEVENT
DTSTART;TZID=America/Chicago:20241221T193000
DTEND;TZID=America/Chicago:20241221T203000
DTSTAMP:20260423T191550
CREATED:20241214T012450Z
LAST-MODIFIED:20241221T225915Z
UID:4571-1734809400-1734813000@hrpo.lsu.edu
SUMMARY:Evening Sky Viewing
DESCRIPTION:Weather permitting\, viewing through one or more telescopes will take place. During this time the waning gibbous Moon will be below the horizon. Please keep headlights off while parking and leaving. Drive slowly! [For ages six and older. No admission fee.] \nNOAA Forecast (Excellent): precipitation potential 0%\, sky cover 1%\, relative humidity 69%\, temperature 7C\, wind chill 6C\, wind N 5 km/h
URL:https://hrpo.lsu.edu/event/evening-sky-viewing-121/
LOCATION:Highland Road Park Observatory
CATEGORIES:December 2024
END:VEVENT
END:VCALENDAR