BEGIN:VCALENDAR
VERSION:2.0
PRODID:-//Highland Road Park Observatory - ECPv6.15.20//NONSGML v1.0//EN
CALSCALE:GREGORIAN
METHOD:PUBLISH
X-WR-CALNAME:Highland Road Park Observatory
X-ORIGINAL-URL:https://hrpo.lsu.edu
X-WR-CALDESC:Events for Highland Road Park Observatory
REFRESH-INTERVAL;VALUE=DURATION:PT1H
X-Robots-Tag:noindex
X-PUBLISHED-TTL:PT1H
BEGIN:VTIMEZONE
TZID:America/Chicago
BEGIN:DAYLIGHT
TZOFFSETFROM:-0600
TZOFFSETTO:-0500
TZNAME:CDT
DTSTART:20240310T080000
END:DAYLIGHT
BEGIN:STANDARD
TZOFFSETFROM:-0500
TZOFFSETTO:-0600
TZNAME:CST
DTSTART:20241103T070000
END:STANDARD
BEGIN:DAYLIGHT
TZOFFSETFROM:-0600
TZOFFSETTO:-0500
TZNAME:CDT
DTSTART:20250309T080000
END:DAYLIGHT
BEGIN:STANDARD
TZOFFSETFROM:-0500
TZOFFSETTO:-0600
TZNAME:CST
DTSTART:20251102T070000
END:STANDARD
BEGIN:DAYLIGHT
TZOFFSETFROM:-0600
TZOFFSETTO:-0500
TZNAME:CDT
DTSTART:20260308T080000
END:DAYLIGHT
BEGIN:STANDARD
TZOFFSETFROM:-0500
TZOFFSETTO:-0600
TZNAME:CST
DTSTART:20261101T070000
END:STANDARD
END:VTIMEZONE
BEGIN:VEVENT
DTSTART;TZID=America/Chicago:20250607T100000
DTEND;TZID=America/Chicago:20250607T120000
DTSTAMP:20260422T154450
CREATED:20250604T053724Z
LAST-MODIFIED:20250604T053724Z
UID:5509-1749290400-1749297600@hrpo.lsu.edu
SUMMARY:Science Academy: "Observing the Universe (Binoculars)"
DESCRIPTION:Cadets will discover the majestic objects that can be spied in a natural sky with only a binocular. [For ages eight to twelve. $5 per EBR-Parish Cadet; $6 per other-Parish Cadet. The first “Observing the Universe” is not a prerequisite.] \nTo register\, go to www.brec.org\, access the registration function and use Activity Number 231320.
URL:https://hrpo.lsu.edu/event/science-academy-observing-the-universe-binoculars/
LOCATION:Highland Road Park Observatory
CATEGORIES:June 2025
END:VEVENT
BEGIN:VEVENT
DTSTART;TZID=America/Chicago:20250607T203000
DTEND;TZID=America/Chicago:20250607T230000
DTSTAMP:20260422T154450
CREATED:20250604T055133Z
LAST-MODIFIED:20250607T234934Z
UID:5511-1749328200-1749337200@hrpo.lsu.edu
SUMMARY:Evening Sky Viewing
DESCRIPTION:Sunset\, 8:04pm CDT. \nWeather permitting\, viewing through one or more telescopes will take place. During this time the waxing gibbous Moon will be at a maximum altitude of 39° in Libra. Please keep headlights off while parking and leaving. Drive slowly! [For ages six and older. No admission fee.] \nNOAA Forecast (Excellent): precipitation potential 1%\, sky cover 7%\, relative humidity 80%\, temperature 28C\, heat index 33C\, wind SW 11 km/h \nTwilight Ends\, 9:42pm CDT.
URL:https://hrpo.lsu.edu/event/evening-sky-viewing-158/
LOCATION:Highland Road Park Observatory
CATEGORIES:June 2025
END:VEVENT
END:VCALENDAR