BEGIN:VCALENDAR
VERSION:2.0
PRODID:-//Highland Road Park Observatory - ECPv6.15.20//NONSGML v1.0//EN
CALSCALE:GREGORIAN
METHOD:PUBLISH
X-ORIGINAL-URL:https://hrpo.lsu.edu
X-WR-CALDESC:Events for Highland Road Park Observatory
REFRESH-INTERVAL;VALUE=DURATION:PT1H
X-Robots-Tag:noindex
X-PUBLISHED-TTL:PT1H
BEGIN:VTIMEZONE
TZID:America/Chicago
BEGIN:DAYLIGHT
TZOFFSETFROM:-0600
TZOFFSETTO:-0500
TZNAME:CDT
DTSTART:20240310T080000
END:DAYLIGHT
BEGIN:STANDARD
TZOFFSETFROM:-0500
TZOFFSETTO:-0600
TZNAME:CST
DTSTART:20241103T070000
END:STANDARD
BEGIN:DAYLIGHT
TZOFFSETFROM:-0600
TZOFFSETTO:-0500
TZNAME:CDT
DTSTART:20250309T080000
END:DAYLIGHT
BEGIN:STANDARD
TZOFFSETFROM:-0500
TZOFFSETTO:-0600
TZNAME:CST
DTSTART:20251102T070000
END:STANDARD
BEGIN:DAYLIGHT
TZOFFSETFROM:-0600
TZOFFSETTO:-0500
TZNAME:CDT
DTSTART:20260308T080000
END:DAYLIGHT
BEGIN:STANDARD
TZOFFSETFROM:-0500
TZOFFSETTO:-0600
TZNAME:CST
DTSTART:20261101T070000
END:STANDARD
END:VTIMEZONE
BEGIN:VEVENT
DTSTART;TZID=America/Chicago:20250620T173000
DTEND;TZID=America/Chicago:20250620T193000
DTSTAMP:20260422T215256
CREATED:20250613T211500Z
LAST-MODIFIED:20250620T194953Z
UID:5541-1750440600-1750447800@hrpo.lsu.edu
SUMMARY:The Daylight Detour
DESCRIPTION:NOAA has issued a Heat Advisory until 7pm. \nWhether it’s taking advantage of a prorated BRAS membership; getting the status of all current NASA\, LSU and HRPO plans; obtaining the latest information on asteroid Apophis; learning HRPO history or taking stock of which celestial events are on their way–this “alternate route” (planned due to Daylight Time) is on your stop! [For ages six and older. No admission fee.] \nNOAA Forecast (Fair): precipitation potential 24%\, sky cover 35%\, relative humidity 70%\, temperature 31C\, heat index 38C\, wind SW 5 km/h
URL:https://hrpo.lsu.edu/event/the-daylight-detour-3/
LOCATION:Highland Road Park Observatory
CATEGORIES:June 2025
END:VEVENT
BEGIN:VEVENT
DTSTART;TZID=America/Chicago:20250620T193000
DTEND;TZID=America/Chicago:20250620T203000
DTSTAMP:20260422T215256
CREATED:20250613T213730Z
LAST-MODIFIED:20250613T214035Z
UID:5545-1750447800-1750451400@hrpo.lsu.edu
SUMMARY:Friday Night Lecture Series: "Wonders of the Summer Sky"
DESCRIPTION:The temperature rises as summer’s constellations settle high overhead early in the night. BREC Education Program Specialist Amy Northrop takes the audience on a fascinating tour of Baton Rouge’s upcoming season. She highlights the celestial gems that will sparkle throughout the next three months–-gems that visitors will be able to view live! [For ages fourteen and older. No admission fee.]
URL:https://hrpo.lsu.edu/event/friday-night-lecture-series-wonders-of-the-summer-sky-3/
LOCATION:Highland Road Park Observatory
CATEGORIES:June 2025
END:VEVENT
END:VCALENDAR