BEGIN:VCALENDAR
VERSION:2.0
PRODID:-//Highland Road Park Observatory - ECPv6.15.20//NONSGML v1.0//EN
CALSCALE:GREGORIAN
METHOD:PUBLISH
X-WR-CALNAME:Highland Road Park Observatory
X-ORIGINAL-URL:https://hrpo.lsu.edu
X-WR-CALDESC:Events for Highland Road Park Observatory
REFRESH-INTERVAL;VALUE=DURATION:PT1H
X-Robots-Tag:noindex
X-PUBLISHED-TTL:PT1H
BEGIN:VTIMEZONE
TZID:America/Chicago
BEGIN:DAYLIGHT
TZOFFSETFROM:-0600
TZOFFSETTO:-0500
TZNAME:CDT
DTSTART:20240310T080000
END:DAYLIGHT
BEGIN:STANDARD
TZOFFSETFROM:-0500
TZOFFSETTO:-0600
TZNAME:CST
DTSTART:20241103T070000
END:STANDARD
BEGIN:DAYLIGHT
TZOFFSETFROM:-0600
TZOFFSETTO:-0500
TZNAME:CDT
DTSTART:20250309T080000
END:DAYLIGHT
BEGIN:STANDARD
TZOFFSETFROM:-0500
TZOFFSETTO:-0600
TZNAME:CST
DTSTART:20251102T070000
END:STANDARD
BEGIN:DAYLIGHT
TZOFFSETFROM:-0600
TZOFFSETTO:-0500
TZNAME:CDT
DTSTART:20260308T080000
END:DAYLIGHT
BEGIN:STANDARD
TZOFFSETFROM:-0500
TZOFFSETTO:-0600
TZNAME:CST
DTSTART:20261101T070000
END:STANDARD
END:VTIMEZONE
BEGIN:VEVENT
DTSTART;TZID=America/Chicago:20250705T080000
DTEND;TZID=America/Chicago:20250705T170000
DTSTAMP:20260421T175337
CREATED:20250628T194922Z
LAST-MODIFIED:20250628T194922Z
UID:5580-1751702400-1751734800@hrpo.lsu.edu
SUMMARY:Science Academy: "Meteor Showers"
DESCRIPTION:Only in natural or near-natural skies can one see the dimmest streaks of a shower. Cadets will learn how showers originate and how to perpetuate for years the awesome scenic beauty of a shower event. [For ages eight to twelve. $5 per EBR-Parish Cadet; $6 per other-Parish Cadet.] \nTo register\, go to www.brec.org\, access the registration function and use Activity Number 231320.
URL:https://hrpo.lsu.edu/event/science-academy-meteor-showers/
LOCATION:Highland Road Park Observatory
CATEGORIES:July 2025
END:VEVENT
BEGIN:VEVENT
DTSTART;TZID=America/Chicago:20250705T203000
DTEND;TZID=America/Chicago:20250705T230000
DTSTAMP:20260421T175337
CREATED:20250630T233742Z
LAST-MODIFIED:20250706T000513Z
UID:5583-1751747400-1751756400@hrpo.lsu.edu
SUMMARY:Evening Sky Viewing
DESCRIPTION:Sunset\, 8:10pm CDT. \nWeather permitting\, viewing through one or more telescopes will take place. During this time the waxing gibbous Moon will be at a maximum altitude of 37° in Libra. Please keep headlights off while parking and leaving. Drive slowly! [For ages six and older. No admission fee.] \nNOAA Forecast (Very Good): precipitation potential 2%\, sky cover 12%\, relative humidity 74%\, temperature 29C\, heat index 32C\, wind S 1 km/h \nTwilight Ends\, 9:47pm CDT.
URL:https://hrpo.lsu.edu/event/evening-sky-viewing-159/
LOCATION:Highland Road Park Observatory
CATEGORIES:July 2025
END:VEVENT
END:VCALENDAR