BEGIN:VCALENDAR
VERSION:2.0
PRODID:-//Highland Road Park Observatory - ECPv6.15.20//NONSGML v1.0//EN
CALSCALE:GREGORIAN
METHOD:PUBLISH
X-WR-CALNAME:Highland Road Park Observatory
X-ORIGINAL-URL:https://hrpo.lsu.edu
X-WR-CALDESC:Events for Highland Road Park Observatory
REFRESH-INTERVAL;VALUE=DURATION:PT1H
X-Robots-Tag:noindex
X-PUBLISHED-TTL:PT1H
BEGIN:VTIMEZONE
TZID:America/Chicago
BEGIN:DAYLIGHT
TZOFFSETFROM:-0600
TZOFFSETTO:-0500
TZNAME:CDT
DTSTART:20240310T080000
END:DAYLIGHT
BEGIN:STANDARD
TZOFFSETFROM:-0500
TZOFFSETTO:-0600
TZNAME:CST
DTSTART:20241103T070000
END:STANDARD
BEGIN:DAYLIGHT
TZOFFSETFROM:-0600
TZOFFSETTO:-0500
TZNAME:CDT
DTSTART:20250309T080000
END:DAYLIGHT
BEGIN:STANDARD
TZOFFSETFROM:-0500
TZOFFSETTO:-0600
TZNAME:CST
DTSTART:20251102T070000
END:STANDARD
BEGIN:DAYLIGHT
TZOFFSETFROM:-0600
TZOFFSETTO:-0500
TZNAME:CDT
DTSTART:20260308T080000
END:DAYLIGHT
BEGIN:STANDARD
TZOFFSETFROM:-0500
TZOFFSETTO:-0600
TZNAME:CST
DTSTART:20261101T070000
END:STANDARD
END:VTIMEZONE
BEGIN:VEVENT
DTSTART;TZID=America/Chicago:20250905T170000
DTEND;TZID=America/Chicago:20250905T210000
DTSTAMP:20260425T102204
CREATED:20250811T170034Z
LAST-MODIFIED:20250905T223041Z
UID:5744-1757091600-1757106000@hrpo.lsu.edu
SUMMARY:A Galaxy of Games
DESCRIPTION:Weather permitting\, sky viewing will take place from 7:30pm to 8:45pm. \nThis one-time-only open house will showcase those non-electronic tabletop challenges that incorporate an astronomy or STEM theme! [Postponed from 1 August. For ages twelve and older. Drinks.] \nNOAA Forecast (Good): precipitation potential 2%\, sky cover 43%\, relative humidity 66%\, temperature 31C\, heat index 36C\, wind S 5 km/h
URL:https://hrpo.lsu.edu/event/a-galaxy-of-games-2/
LOCATION:Highland Road Park Observatory
CATEGORIES:September 2025
END:VEVENT
END:VCALENDAR