BEGIN:VCALENDAR
VERSION:2.0
PRODID:-//Highland Road Park Observatory - ECPv6.15.20//NONSGML v1.0//EN
CALSCALE:GREGORIAN
METHOD:PUBLISH
X-WR-CALNAME:Highland Road Park Observatory
X-ORIGINAL-URL:https://hrpo.lsu.edu
X-WR-CALDESC:Events for Highland Road Park Observatory
REFRESH-INTERVAL;VALUE=DURATION:PT1H
X-Robots-Tag:noindex
X-PUBLISHED-TTL:PT1H
BEGIN:VTIMEZONE
TZID:America/Chicago
BEGIN:DAYLIGHT
TZOFFSETFROM:-0600
TZOFFSETTO:-0500
TZNAME:CDT
DTSTART:20240310T080000
END:DAYLIGHT
BEGIN:STANDARD
TZOFFSETFROM:-0500
TZOFFSETTO:-0600
TZNAME:CST
DTSTART:20241103T070000
END:STANDARD
BEGIN:DAYLIGHT
TZOFFSETFROM:-0600
TZOFFSETTO:-0500
TZNAME:CDT
DTSTART:20250309T080000
END:DAYLIGHT
BEGIN:STANDARD
TZOFFSETFROM:-0500
TZOFFSETTO:-0600
TZNAME:CST
DTSTART:20251102T070000
END:STANDARD
BEGIN:DAYLIGHT
TZOFFSETFROM:-0600
TZOFFSETTO:-0500
TZNAME:CDT
DTSTART:20260308T080000
END:DAYLIGHT
BEGIN:STANDARD
TZOFFSETFROM:-0500
TZOFFSETTO:-0600
TZNAME:CST
DTSTART:20261101T070000
END:STANDARD
END:VTIMEZONE
BEGIN:VEVENT
DTSTART;TZID=America/Chicago:20250913T100000
DTEND;TZID=America/Chicago:20250913T120000
DTSTAMP:20260422T210214
CREATED:20250826T224246Z
LAST-MODIFIED:20250826T224246Z
UID:5778-1757757600-1757764800@hrpo.lsu.edu
SUMMARY:Science Academy: "Saturn"
DESCRIPTION:It is a special year for the ringed beauty. The tilt of our view is allowing the rings to come back into focus\, and the largest moon Titan is performing a series of transits across its parent planet’s disc! Cadets will uncover it all. [For ages eight to twelve. $5 per EBR-Parish Cadet; $6 per other-Parish Cadet.] \nTo register\, go to www.brec.org\, access the registration function and use Activity Number 331320.
URL:https://hrpo.lsu.edu/event/science-academy-saturn-2/
LOCATION:Highland Road Park Observatory
CATEGORIES:September 2025
END:VEVENT
BEGIN:VEVENT
DTSTART;TZID=America/Chicago:20250913T190000
DTEND;TZID=America/Chicago:20250913T220000
DTSTAMP:20260422T210214
CREATED:20250826T224628Z
LAST-MODIFIED:20250913T231306Z
UID:5780-1757790000-1757800800@hrpo.lsu.edu
SUMMARY:Plus Night: "The Outer Giants"
DESCRIPTION:There is a NOAA Air Quality Alert until 12am. \nWeather permitting\, viewing through one or more telescopes will take place. There will also be physical science demonstrations\, a marshmallow roast\, a sky tour and a game for kids to earn small prizes. During this time the Last Quarter Moon will be below the horizon. Please keep headlights off while parking and leaving. Drive slowly! [For ages six and older. No admission fee.] \nSunset: 7:11pm CDT. Twilight Ends: 8:33pm CDT. \nNOAA Forecast (Excellent): precipitation potential 0%\, sky cover 17%\, relative humidity 62%\, temperature 28C\, heat index 30C\, wind E 5 km/h
URL:https://hrpo.lsu.edu/event/plus-night-the-outer-giants/
LOCATION:Highland Road Park Observatory
CATEGORIES:September 2025
END:VEVENT
END:VCALENDAR