BEGIN:VCALENDAR
VERSION:2.0
PRODID:-//Highland Road Park Observatory - ECPv6.15.20//NONSGML v1.0//EN
CALSCALE:GREGORIAN
METHOD:PUBLISH
X-ORIGINAL-URL:https://hrpo.lsu.edu
X-WR-CALDESC:Events for Highland Road Park Observatory
REFRESH-INTERVAL;VALUE=DURATION:PT1H
X-Robots-Tag:noindex
X-PUBLISHED-TTL:PT1H
BEGIN:VTIMEZONE
TZID:America/Chicago
BEGIN:DAYLIGHT
TZOFFSETFROM:-0600
TZOFFSETTO:-0500
TZNAME:CDT
DTSTART:20220313T080000
END:DAYLIGHT
BEGIN:STANDARD
TZOFFSETFROM:-0500
TZOFFSETTO:-0600
TZNAME:CST
DTSTART:20221106T070000
END:STANDARD
BEGIN:DAYLIGHT
TZOFFSETFROM:-0600
TZOFFSETTO:-0500
TZNAME:CDT
DTSTART:20230312T080000
END:DAYLIGHT
BEGIN:STANDARD
TZOFFSETFROM:-0500
TZOFFSETTO:-0600
TZNAME:CST
DTSTART:20231105T070000
END:STANDARD
BEGIN:DAYLIGHT
TZOFFSETFROM:-0600
TZOFFSETTO:-0500
TZNAME:CDT
DTSTART:20240310T080000
END:DAYLIGHT
BEGIN:STANDARD
TZOFFSETFROM:-0500
TZOFFSETTO:-0600
TZNAME:CST
DTSTART:20241103T070000
END:STANDARD
END:VTIMEZONE
BEGIN:VEVENT
DTSTART;TZID=America/Chicago:20230805T100000
DTEND;TZID=America/Chicago:20230805T120000
DTSTAMP:20260421T132737
CREATED:20230802T220235Z
LAST-MODIFIED:20230802T220235Z
UID:2297-1691229600-1691236800@hrpo.lsu.edu
SUMMARY:Science Academy: "Saturn"
DESCRIPTION:Saturn is the namesake of Saturday\, and this Saturday Cadets will learn about this mostly hydrogen-and-helium ball. Its eighty-plus moons; the legacies of Voyager and Cassini; and the planet’s potential for life will be investigated. [For ages eight to twelve. $5 per EBR-Parish Cadet; $6 per other-Parish Cadet.]
URL:https://hrpo.lsu.edu/event/science-academy-saturn/
LOCATION:Highland Road Park Observatory
CATEGORIES:August 2023
END:VEVENT
BEGIN:VEVENT
DTSTART;TZID=America/Chicago:20230805T193000
DTEND;TZID=America/Chicago:20230805T220000
DTSTAMP:20260421T132737
CREATED:20230802T221259Z
LAST-MODIFIED:20230805T223004Z
UID:2299-1691263800-1691272800@hrpo.lsu.edu
SUMMARY:Evening Sky Viewing
DESCRIPTION:NOTE: As the heat index is in NOAA’s “Danger” category until 9pm\, this event is cancelled. HRPO personnel will be offering public viewing on Wednesday the 9th at the Burbank Soccer Complex\, and next weekend at HRPO. \nWeather permitting\, viewing through one or more telescopes will take place. During this time the waning gibbous Moon will be below the horizon. Please keep headlights off while parking and leaving. Drive slowly! [No admission fee. For ages six and older.]
URL:https://hrpo.lsu.edu/event/evening-sky-viewing-21/
LOCATION:Highland Road Park Observatory
CATEGORIES:August 2023
END:VEVENT
END:VCALENDAR