BEGIN:VCALENDAR
VERSION:2.0
PRODID:-//Highland Road Park Observatory - ECPv6.15.20//NONSGML v1.0//EN
CALSCALE:GREGORIAN
METHOD:PUBLISH
X-WR-CALNAME:Highland Road Park Observatory
X-ORIGINAL-URL:https://hrpo.lsu.edu
X-WR-CALDESC:Events for Highland Road Park Observatory
REFRESH-INTERVAL;VALUE=DURATION:PT1H
X-Robots-Tag:noindex
X-PUBLISHED-TTL:PT1H
BEGIN:VTIMEZONE
TZID:America/Chicago
BEGIN:DAYLIGHT
TZOFFSETFROM:-0600
TZOFFSETTO:-0500
TZNAME:CDT
DTSTART:20220313T080000
END:DAYLIGHT
BEGIN:STANDARD
TZOFFSETFROM:-0500
TZOFFSETTO:-0600
TZNAME:CST
DTSTART:20221106T070000
END:STANDARD
BEGIN:DAYLIGHT
TZOFFSETFROM:-0600
TZOFFSETTO:-0500
TZNAME:CDT
DTSTART:20230312T080000
END:DAYLIGHT
BEGIN:STANDARD
TZOFFSETFROM:-0500
TZOFFSETTO:-0600
TZNAME:CST
DTSTART:20231105T070000
END:STANDARD
BEGIN:DAYLIGHT
TZOFFSETFROM:-0600
TZOFFSETTO:-0500
TZNAME:CDT
DTSTART:20240310T080000
END:DAYLIGHT
BEGIN:STANDARD
TZOFFSETFROM:-0500
TZOFFSETTO:-0600
TZNAME:CST
DTSTART:20241103T070000
END:STANDARD
END:VTIMEZONE
BEGIN:VEVENT
DTSTART;TZID=America/Chicago:20230809T191500
DTEND;TZID=America/Chicago:20230809T204500
DTSTAMP:20260419T113619
CREATED:20230802T222829Z
LAST-MODIFIED:20230809T234006Z
UID:2301-1691608500-1691613900@hrpo.lsu.edu
SUMMARY:Mercurian Elongation
DESCRIPTION:Periodically Mercury reaches its greatest angular separation in the sky (elongation) from the Sun. This is the safest way to view Mercury by amateurs. Come join us at the Burbank Soccer Complex! The planet will appear as a half-Mercury. During the last half of the session Mars also will be available. [No admission fee. For ages six and older.]
URL:https://hrpo.lsu.edu/event/mercurian-elongation-2/
LOCATION:Burbank Soccer Complex\, 12400 Burbank Drive\, Baton Rouge\, Louisiana
CATEGORIES:August 2023
END:VEVENT
END:VCALENDAR