BEGIN:VCALENDAR
VERSION:2.0
PRODID:-//Highland Road Park Observatory - ECPv6.15.20//NONSGML v1.0//EN
CALSCALE:GREGORIAN
METHOD:PUBLISH
X-ORIGINAL-URL:https://hrpo.lsu.edu
X-WR-CALDESC:Events for Highland Road Park Observatory
REFRESH-INTERVAL;VALUE=DURATION:PT1H
X-Robots-Tag:noindex
X-PUBLISHED-TTL:PT1H
BEGIN:VTIMEZONE
TZID:America/Chicago
BEGIN:DAYLIGHT
TZOFFSETFROM:-0600
TZOFFSETTO:-0500
TZNAME:CDT
DTSTART:20220313T080000
END:DAYLIGHT
BEGIN:STANDARD
TZOFFSETFROM:-0500
TZOFFSETTO:-0600
TZNAME:CST
DTSTART:20221106T070000
END:STANDARD
BEGIN:DAYLIGHT
TZOFFSETFROM:-0600
TZOFFSETTO:-0500
TZNAME:CDT
DTSTART:20230312T080000
END:DAYLIGHT
BEGIN:STANDARD
TZOFFSETFROM:-0500
TZOFFSETTO:-0600
TZNAME:CST
DTSTART:20231105T070000
END:STANDARD
BEGIN:DAYLIGHT
TZOFFSETFROM:-0600
TZOFFSETTO:-0500
TZNAME:CDT
DTSTART:20240310T080000
END:DAYLIGHT
BEGIN:STANDARD
TZOFFSETFROM:-0500
TZOFFSETTO:-0600
TZNAME:CST
DTSTART:20241103T070000
END:STANDARD
END:VTIMEZONE
BEGIN:VEVENT
DTSTART;TZID=America/Chicago:20230811T203000
DTEND;TZID=America/Chicago:20230811T220000
DTSTAMP:20260421T112625
CREATED:20230802T225946Z
LAST-MODIFIED:20230811T225620Z
UID:2305-1691785800-1691791200@hrpo.lsu.edu
SUMMARY:Evening Sky Viewing
DESCRIPTION:NOTE: HRPO’s main floor AC unit has a broken component.  The lecture originally scheduled to take place before this viewing session (“STEREO Shows the Sun”) has been postponed until 15 September. The Evening Sky Viewing session is cancelled. \nWeather permitting\, viewing through one or more telescopes will take place. During this time the waning crescent Moon will be below the horizon. Please keep headlights off while parking and leaving. Drive slowly! [For ages six and older. No admission fee.]
URL:https://hrpo.lsu.edu/event/evening-sky-viewing-22/
LOCATION:Highland Road Park Observatory
CATEGORIES:August 2023
END:VEVENT
END:VCALENDAR