BEGIN:VCALENDAR
VERSION:2.0
PRODID:-//Highland Road Park Observatory - ECPv6.15.20//NONSGML v1.0//EN
CALSCALE:GREGORIAN
METHOD:PUBLISH
X-WR-CALNAME:Highland Road Park Observatory
X-ORIGINAL-URL:https://hrpo.lsu.edu
X-WR-CALDESC:Events for Highland Road Park Observatory
REFRESH-INTERVAL;VALUE=DURATION:PT1H
X-Robots-Tag:noindex
X-PUBLISHED-TTL:PT1H
BEGIN:VTIMEZONE
TZID:America/Chicago
BEGIN:DAYLIGHT
TZOFFSETFROM:-0600
TZOFFSETTO:-0500
TZNAME:CDT
DTSTART:20220313T080000
END:DAYLIGHT
BEGIN:STANDARD
TZOFFSETFROM:-0500
TZOFFSETTO:-0600
TZNAME:CST
DTSTART:20221106T070000
END:STANDARD
BEGIN:DAYLIGHT
TZOFFSETFROM:-0600
TZOFFSETTO:-0500
TZNAME:CDT
DTSTART:20230312T080000
END:DAYLIGHT
BEGIN:STANDARD
TZOFFSETFROM:-0500
TZOFFSETTO:-0600
TZNAME:CST
DTSTART:20231105T070000
END:STANDARD
BEGIN:DAYLIGHT
TZOFFSETFROM:-0600
TZOFFSETTO:-0500
TZNAME:CDT
DTSTART:20240310T080000
END:DAYLIGHT
BEGIN:STANDARD
TZOFFSETFROM:-0500
TZOFFSETTO:-0600
TZNAME:CST
DTSTART:20241103T070000
END:STANDARD
END:VTIMEZONE
BEGIN:VEVENT
DTSTART;TZID=America/Chicago:20230814T180000
DTEND;TZID=America/Chicago:20230814T190000
DTSTAMP:20260421T112429
CREATED:20230803T001247Z
LAST-MODIFIED:20230803T001247Z
UID:2311-1692036000-1692039600@hrpo.lsu.edu
SUMMARY:Light Pollution Committee Meeting
DESCRIPTION:Are you a local skygazer\, homeowner\, business owner\, science teacher or stakeholder interested reclaiming a natural sky above HRPO and its surrounding while simultaneously saving money and energy\, and making driving safer? This meeting (open to the public) is a sounding board for real-life solutions to the light pollution problem. [For ages fourteen and older. No admission fee.]
URL:https://hrpo.lsu.edu/event/light-pollution-committee-meeting-3/
LOCATION:Highland Road Park Observatory
CATEGORIES:August 2023
END:VEVENT
BEGIN:VEVENT
DTSTART;TZID=America/Chicago:20230814T190000
DTEND;TZID=America/Chicago:20230814T210000
DTSTAMP:20260421T112429
CREATED:20230803T001453Z
LAST-MODIFIED:20230814T234608Z
UID:2313-1692039600-1692046800@hrpo.lsu.edu
SUMMARY:Baton Rouge Astronomical Society Meeting
DESCRIPTION:For over four decades BRAS has educated countless numbers of citizens in the joys of planetary and deep-sky gazing\, the perils of light pollution and factors to consider when buying a pair of binoculars or a telescope. Over the years BRAS members have constructed their own telescopes and photographic platforms; and imaged comets\, earned observing certificates and discovered asteroids. Anyone interested in learning more about BRAS is invited to attend. This month\, Tabby Boyajian will discuss the current status of the research concerning Tabby’s Star. [For ages fourteen and older. No admission fee.]
URL:https://hrpo.lsu.edu/event/baton-rouge-astronomical-society-meeting-5/
LOCATION:Highland Road Park Observatory
CATEGORIES:August 2023
END:VEVENT
END:VCALENDAR