BEGIN:VCALENDAR
VERSION:2.0
PRODID:-//Highland Road Park Observatory - ECPv6.15.20//NONSGML v1.0//EN
CALSCALE:GREGORIAN
METHOD:PUBLISH
X-WR-CALNAME:Highland Road Park Observatory
X-ORIGINAL-URL:https://hrpo.lsu.edu
X-WR-CALDESC:Events for Highland Road Park Observatory
REFRESH-INTERVAL;VALUE=DURATION:PT1H
X-Robots-Tag:noindex
X-PUBLISHED-TTL:PT1H
BEGIN:VTIMEZONE
TZID:America/Chicago
BEGIN:DAYLIGHT
TZOFFSETFROM:-0600
TZOFFSETTO:-0500
TZNAME:CDT
DTSTART:20220313T080000
END:DAYLIGHT
BEGIN:STANDARD
TZOFFSETFROM:-0500
TZOFFSETTO:-0600
TZNAME:CST
DTSTART:20221106T070000
END:STANDARD
BEGIN:DAYLIGHT
TZOFFSETFROM:-0600
TZOFFSETTO:-0500
TZNAME:CDT
DTSTART:20230312T080000
END:DAYLIGHT
BEGIN:STANDARD
TZOFFSETFROM:-0500
TZOFFSETTO:-0600
TZNAME:CST
DTSTART:20231105T070000
END:STANDARD
BEGIN:DAYLIGHT
TZOFFSETFROM:-0600
TZOFFSETTO:-0500
TZNAME:CDT
DTSTART:20240310T080000
END:DAYLIGHT
BEGIN:STANDARD
TZOFFSETFROM:-0500
TZOFFSETTO:-0600
TZNAME:CST
DTSTART:20241103T070000
END:STANDARD
END:VTIMEZONE
BEGIN:VEVENT
DTSTART;TZID=America/Chicago:20230819T190000
DTEND;TZID=America/Chicago:20230819T220000
DTSTAMP:20260421T112430
CREATED:20230803T005808Z
LAST-MODIFIED:20230830T203428Z
UID:2319-1692471600-1692482400@hrpo.lsu.edu
SUMMARY:Plus Night: "The Ringed Beauty"
DESCRIPTION:Weather permitting\, viewing through one or more telescopes will take place. There will also be physical science demonstrations\, a marshmallow roast\, a sky tour and a game for kids to earn small prizes. During this time the waxing crescent Moon will be at a maximum altitude of 32° in the Virgo. Please keep headlights off while parking and leaving\, and drive slowly! [For ages six and older. No admission fee.] \nNOTES: The Louisiana Department of Agriculture and Foresty’s Burn Ban Map shows a current burn ban for East Baton Rouge Parish; therefore\, there will be no marshmallow roast tonight. NOAA has an Excessive Heat Warning in effect for the HRPO area until 7pm CDT. The 20OGS is experience a battery issue. LSU personnel will be investigating this issue in the upcoming week\, so the 20OGS will not be available tonight. The heat index is in NOAA’s “Danger” category until 8pm; therefore\, there will be no outside activities (including viewing) until 8pm. NOAA also has an Air Quality Alert in effect for the HRPO area until 12am CDT.
URL:https://hrpo.lsu.edu/event/plus-night-the-ringed-beauty/
LOCATION:Highland Road Park Observatory
CATEGORIES:August 2023
END:VEVENT
END:VCALENDAR