BEGIN:VCALENDAR
VERSION:2.0
PRODID:-//Highland Road Park Observatory - ECPv6.15.20//NONSGML v1.0//EN
CALSCALE:GREGORIAN
METHOD:PUBLISH
X-ORIGINAL-URL:https://hrpo.lsu.edu
X-WR-CALDESC:Events for Highland Road Park Observatory
REFRESH-INTERVAL;VALUE=DURATION:PT1H
X-Robots-Tag:noindex
X-PUBLISHED-TTL:PT1H
BEGIN:VTIMEZONE
TZID:America/Chicago
BEGIN:DAYLIGHT
TZOFFSETFROM:-0600
TZOFFSETTO:-0500
TZNAME:CDT
DTSTART:20220313T080000
END:DAYLIGHT
BEGIN:STANDARD
TZOFFSETFROM:-0500
TZOFFSETTO:-0600
TZNAME:CST
DTSTART:20221106T070000
END:STANDARD
BEGIN:DAYLIGHT
TZOFFSETFROM:-0600
TZOFFSETTO:-0500
TZNAME:CDT
DTSTART:20230312T080000
END:DAYLIGHT
BEGIN:STANDARD
TZOFFSETFROM:-0500
TZOFFSETTO:-0600
TZNAME:CST
DTSTART:20231105T070000
END:STANDARD
BEGIN:DAYLIGHT
TZOFFSETFROM:-0600
TZOFFSETTO:-0500
TZNAME:CDT
DTSTART:20240310T080000
END:DAYLIGHT
BEGIN:STANDARD
TZOFFSETFROM:-0500
TZOFFSETTO:-0600
TZNAME:CST
DTSTART:20241103T070000
END:STANDARD
END:VTIMEZONE
BEGIN:VEVENT
DTSTART;TZID=America/Chicago:20230825T193000
DTEND;TZID=America/Chicago:20230825T203000
DTSTAMP:20260421T112627
CREATED:20230803T010208Z
LAST-MODIFIED:20230803T010208Z
UID:2321-1692991800-1692995400@hrpo.lsu.edu
SUMMARY:Friday Night Lecture Series: "The Krakatoa Eruption"
DESCRIPTION:Some believe it to be the largest Earth volcano eruption ever. Killing tens of thousands and changing the local landscape\, the event will be outlined by BREC Education Program Specialist Amy Northrop. [For ages fourteen and older. No admission fee.]
URL:https://hrpo.lsu.edu/event/friday-night-lecture-series-the-krakatoa-eruption/
LOCATION:Highland Road Park Observatory
CATEGORIES:August 2023
END:VEVENT
BEGIN:VEVENT
DTSTART;TZID=America/Chicago:20230825T203000
DTEND;TZID=America/Chicago:20230825T220000
DTSTAMP:20260421T112627
CREATED:20230814T235759Z
LAST-MODIFIED:20230814T235759Z
UID:2357-1692995400-1693000800@hrpo.lsu.edu
SUMMARY:Evening Sky Viewing
DESCRIPTION:Weather permitting\, viewing through one or more telescopes will take place. During this time the waxing gibbous Moon will be at a maximum altitude of 31° in Ophiuchus. Please keep headlights off while parking and leaving. Drive slowly! [For ages six and older. No admission fee.]
URL:https://hrpo.lsu.edu/event/evening-sky-viewing-24/
LOCATION:Highland Road Park Observatory
CATEGORIES:August 2023
END:VEVENT
END:VCALENDAR