BEGIN:VCALENDAR
VERSION:2.0
PRODID:-//Highland Road Park Observatory - ECPv6.15.20//NONSGML v1.0//EN
CALSCALE:GREGORIAN
METHOD:PUBLISH
X-ORIGINAL-URL:https://hrpo.lsu.edu
X-WR-CALDESC:Events for Highland Road Park Observatory
REFRESH-INTERVAL;VALUE=DURATION:PT1H
X-Robots-Tag:noindex
X-PUBLISHED-TTL:PT1H
BEGIN:VTIMEZONE
TZID:America/Chicago
BEGIN:DAYLIGHT
TZOFFSETFROM:-0600
TZOFFSETTO:-0500
TZNAME:CDT
DTSTART:20220313T080000
END:DAYLIGHT
BEGIN:STANDARD
TZOFFSETFROM:-0500
TZOFFSETTO:-0600
TZNAME:CST
DTSTART:20221106T070000
END:STANDARD
BEGIN:DAYLIGHT
TZOFFSETFROM:-0600
TZOFFSETTO:-0500
TZNAME:CDT
DTSTART:20230312T080000
END:DAYLIGHT
BEGIN:STANDARD
TZOFFSETFROM:-0500
TZOFFSETTO:-0600
TZNAME:CST
DTSTART:20231105T070000
END:STANDARD
BEGIN:DAYLIGHT
TZOFFSETFROM:-0600
TZOFFSETTO:-0500
TZNAME:CDT
DTSTART:20240310T080000
END:DAYLIGHT
BEGIN:STANDARD
TZOFFSETFROM:-0500
TZOFFSETTO:-0600
TZNAME:CST
DTSTART:20241103T070000
END:STANDARD
END:VTIMEZONE
BEGIN:VEVENT
DTSTART;TZID=America/Chicago:20230826T120000
DTEND;TZID=America/Chicago:20230826T140000
DTSTAMP:20260421T112625
CREATED:20230815T001101Z
LAST-MODIFIED:20230826T000907Z
UID:2359-1693051200-1693058400@hrpo.lsu.edu
SUMMARY:Solar Viewing
DESCRIPTION:NOTE: NOAA has forecast an Excessive Heat Warning for the HRPO area beginning at 10am CDT tomorrow. The heat index is predicted to be in the Danger category. If this does not change by 9am tomorrow\, Solar Viewing is cancelled. \nWeather permitting\, viewing of the Sun’s image in three different manners–indirectly onto a white surface\, directly with safely-filtered optical light and directly in hydrogen-alpha wavelength–will take place. Protective clothing and sunscreen are recommended. [No admission fee. For all ages.]
URL:https://hrpo.lsu.edu/event/solar-viewing-3/
LOCATION:Highland Road Park Observatory
CATEGORIES:August 2023
END:VEVENT
BEGIN:VEVENT
DTSTART;TZID=America/Chicago:20230826T153000
DTEND;TZID=America/Chicago:20230826T193000
DTSTAMP:20260421T112625
CREATED:20230815T001242Z
LAST-MODIFIED:20230815T001242Z
UID:2361-1693063800-1693078200@hrpo.lsu.edu
SUMMARY:STEM Expansion: "Astrogeology"
DESCRIPTION:This program offers advanced topics\, activity extensions and all-new games and demonstrations to older youth. Certificates are earned and archived as well as modern experiments take place. There are also giveaways and door prizes. [For ages twelve to sixteen. $15 per EBR parish registrant; $18 per other-parish registrant. Deadline for online registration is 6pm the day (Friday) before.]
URL:https://hrpo.lsu.edu/event/stem-expansion-astrogeology/
LOCATION:Highland Road Park Observatory
CATEGORIES:August 2023
END:VEVENT
BEGIN:VEVENT
DTSTART;TZID=America/Chicago:20230826T221500
DTEND;TZID=America/Chicago:20230827T001500
DTSTAMP:20260421T112625
CREATED:20230815T002119Z
LAST-MODIFIED:20230827T023131Z
UID:2363-1693088100-1693095300@hrpo.lsu.edu
SUMMARY:Saturnian Opposition
DESCRIPTION:Saturn is exactly 180 degrees from the Sun\, rising as the Sun is setting. We are now the closest we’ll be to Saturn this year! Weather permitting\, viewing of Saturn will take place. [No admission fee. For ages six and older.]
URL:https://hrpo.lsu.edu/event/saturnian-opposition/
LOCATION:Highland Road Park Observatory
CATEGORIES:August 2023
END:VEVENT
END:VCALENDAR