BEGIN:VCALENDAR
VERSION:2.0
PRODID:-//Highland Road Park Observatory - ECPv6.15.20//NONSGML v1.0//EN
CALSCALE:GREGORIAN
METHOD:PUBLISH
X-WR-CALNAME:Highland Road Park Observatory
X-ORIGINAL-URL:https://hrpo.lsu.edu
X-WR-CALDESC:Events for Highland Road Park Observatory
REFRESH-INTERVAL;VALUE=DURATION:PT1H
X-Robots-Tag:noindex
X-PUBLISHED-TTL:PT1H
BEGIN:VTIMEZONE
TZID:America/Chicago
BEGIN:DAYLIGHT
TZOFFSETFROM:-0600
TZOFFSETTO:-0500
TZNAME:CDT
DTSTART:20230312T080000
END:DAYLIGHT
BEGIN:STANDARD
TZOFFSETFROM:-0500
TZOFFSETTO:-0600
TZNAME:CST
DTSTART:20231105T070000
END:STANDARD
BEGIN:DAYLIGHT
TZOFFSETFROM:-0600
TZOFFSETTO:-0500
TZNAME:CDT
DTSTART:20240310T080000
END:DAYLIGHT
BEGIN:STANDARD
TZOFFSETFROM:-0500
TZOFFSETTO:-0600
TZNAME:CST
DTSTART:20241103T070000
END:STANDARD
BEGIN:DAYLIGHT
TZOFFSETFROM:-0600
TZOFFSETTO:-0500
TZNAME:CDT
DTSTART:20250309T080000
END:DAYLIGHT
BEGIN:STANDARD
TZOFFSETFROM:-0500
TZOFFSETTO:-0600
TZNAME:CST
DTSTART:20251102T070000
END:STANDARD
END:VTIMEZONE
BEGIN:VEVENT
DTSTART;TZID=America/Chicago:20240112T203000
DTEND;TZID=America/Chicago:20240112T220000
DTSTAMP:20260421T184005
CREATED:20240105T185413Z
LAST-MODIFIED:20240105T185413Z
UID:2996-1705091400-1705096800@hrpo.lsu.edu
SUMMARY:Evening Sky Viewing
DESCRIPTION:Weather permitting\, viewing through one or more telescopes will take place. During this time the waxing crescent Moon will be below the horizon. Please keep headlights off while parking and leaving. Drive slowly! [For ages six and older. No admission fee.]
URL:https://hrpo.lsu.edu/event/evening-sky-viewing-53/
LOCATION:Highland Road Park Observatory
CATEGORIES:January 2024
END:VEVENT
BEGIN:VEVENT
DTSTART;TZID=America/Chicago:20240112T193000
DTEND;TZID=America/Chicago:20240112T203000
DTSTAMP:20260421T184005
CREATED:20240110T004227Z
LAST-MODIFIED:20240110T004227Z
UID:3008-1705087800-1705091400@hrpo.lsu.edu
SUMMARY:Friday Night Lecture Series: "2023--The Space Year in Review"
DESCRIPTION:Tradition continues\, with HRPO’s cornerstone program returning for another calendar year with a look back at the discoveries\, advances and celestial events of 2023. [For ages fourteen and older. No admisison fee.]
URL:https://hrpo.lsu.edu/event/friday-night-lecture-series-2023-the-space-year-in-review/
LOCATION:Highland Road Park Observatory
CATEGORIES:January 2024
END:VEVENT
BEGIN:VEVENT
DTSTART;TZID=America/Chicago:20240109T190000
DTEND;TZID=America/Chicago:20240109T210000
DTSTAMP:20260421T184005
CREATED:20240104T023418Z
LAST-MODIFIED:20240110T000324Z
UID:2988-1704826800-1704834000@hrpo.lsu.edu
SUMMARY:Baton Rouge Astronomical Society Meeting
DESCRIPTION:[Postponed from yesterday due to inclement weather.] \nFor over four decades the Baton Rouge Astronomical Society has educated countless numbers of citizens in the joys of planetary and deep-sky gazing\, the perils of light pollution and factors to consider when buying a pair of binoculars or a telescope. Over the years BRAS members have constructed their own telescopes and photographic platforms; and imaged comets\, earned observing certificates and discovered asteroids. Anyone interested in learning more about BRAS is invited to attend. [For ages fourteen and older. No admission fee.]
URL:https://hrpo.lsu.edu/event/baton-rouge-astronomical-society-meeting-10/
LOCATION:Highland Road Park Observatory
CATEGORIES:January 2024
END:VEVENT
BEGIN:VEVENT
DTSTART;TZID=America/Chicago:20240109T180000
DTEND;TZID=America/Chicago:20240109T190000
DTSTAMP:20260421T184005
CREATED:20240104T022737Z
LAST-MODIFIED:20240110T000206Z
UID:2986-1704823200-1704826800@hrpo.lsu.edu
SUMMARY:Light Pollution Committee Meeting
DESCRIPTION:[Postponed from yesterday due to inclement weather.] \nAre you a local skygazer\, homeowner\, business owner\, science teacher or stakeholder interested reclaiming a natural sky above HRPO and its surrounding while simultaneously saving money and energy\, and making driving safer? This meeting (open to the public) is a sounding board for real-life solutions to the light pollution problem. [For ages fourteen and older. No admission fee.]
URL:https://hrpo.lsu.edu/event/light-pollution-committee-meeting-8/
LOCATION:Highland Road Park Observatory
CATEGORIES:January 2024
END:VEVENT
BEGIN:VEVENT
DTSTART;TZID=America/Chicago:20240106T193000
DTEND;TZID=America/Chicago:20240106T220000
DTSTAMP:20260421T184005
CREATED:20231218T211838Z
LAST-MODIFIED:20231218T211838Z
UID:2949-1704569400-1704578400@hrpo.lsu.edu
SUMMARY:Evening Sky Viewing
DESCRIPTION:Weather permitting\, viewing through one or more telescopes will take place. During this time the waning crescent Moon will be below the horizon. Please keep headlights off while parking and leaving. Drive slowly! [For ages six and older. No admission fee.]
URL:https://hrpo.lsu.edu/event/evening-sky-viewing-48/
LOCATION:Highland Road Park Observatory
CATEGORIES:January 2024
END:VEVENT
BEGIN:VEVENT
DTSTART;TZID=America/Chicago:20240106T153000
DTEND;TZID=America/Chicago:20240106T193000
DTSTAMP:20260421T184005
CREATED:20240103T230905Z
LAST-MODIFIED:20240104T020054Z
UID:2965-1704555000-1704569400@hrpo.lsu.edu
SUMMARY:Learn Your Binocular
DESCRIPTION:This class is a hands-on introduction to the operations of your personal binocular. We’ll even take it outside for some practice. Also included will be an overview of major sky events for the next twelve months. Up to four household members over the age of eight are encouraged to attend. Please bring all parts and accessories belonging with the binocular\, including the case and instruction manual. This one-day course focuses specifically on binocular views of the Baton Rouge sky. [Registrant must be eighteen or older. $15 per EBR Parish registrant; $18 per other-Parish registrant. Limit twenty registrants. Limit one binocular per registrant.] \nTo register\, go to www.brec.org\, access the registration function and use Activity Number 531992.
URL:https://hrpo.lsu.edu/event/learn-your-binocular/
LOCATION:Highland Road Park Observatory
CATEGORIES:January 2024
END:VEVENT
BEGIN:VEVENT
DTSTART;TZID=America/Chicago:20240106T100000
DTEND;TZID=America/Chicago:20240106T120000
DTSTAMP:20260421T184005
CREATED:20231218T211554Z
LAST-MODIFIED:20231218T211554Z
UID:2947-1704535200-1704542400@hrpo.lsu.edu
SUMMARY:Science Academy: "Your Personal Skygazing Kit"
DESCRIPTION:Every Cadet needs one. In this session each registrant will receive a folder will upcoming celestial dates\, a planisphere and other incredible contents. [For ages eight to twelve. $5 per EBR-Parish Cadet; $6 per other-Parish Cadet. Limit sixteen.] \nTo register\, go to www.brec.org\, access the registration function and use Activity Number 531990.
URL:https://hrpo.lsu.edu/event/science-academy-your-personal-skygazing-kit/
LOCATION:Highland Road Park Observatory
CATEGORIES:January 2024
END:VEVENT
BEGIN:VEVENT
DTSTART;TZID=America/Chicago:20240105T203000
DTEND;TZID=America/Chicago:20240105T220000
DTSTAMP:20260421T184005
CREATED:20231217T003422Z
LAST-MODIFIED:20240125T213710Z
UID:2932-1704486600-1704492000@hrpo.lsu.edu
SUMMARY:Evening Sky Viewing
DESCRIPTION:FOGGY CONDITIONS AT HRPO. LECTURE (“2023–The Space Year in Review”) POSTPONED UNTIL 12 JANUARY. VIEWING ATTEMPT CANCELLED. \nWeather permitting\, viewing through one or more telescopes will take place. During this time the waning crescent Moon will be below the horizon. Please keep headlights off while parking and leaving. Drive slowly! [For ages six and older. No admission fee.]
URL:https://hrpo.lsu.edu/event/evening-sky-viewing-47/
LOCATION:Highland Road Park Observatory
CATEGORIES:January 2024
END:VEVENT
END:VCALENDAR