BEGIN:VCALENDAR
VERSION:2.0
PRODID:-//Highland Road Park Observatory - ECPv6.15.20//NONSGML v1.0//EN
CALSCALE:GREGORIAN
METHOD:PUBLISH
X-WR-CALNAME:Highland Road Park Observatory
X-ORIGINAL-URL:https://hrpo.lsu.edu
X-WR-CALDESC:Events for Highland Road Park Observatory
REFRESH-INTERVAL;VALUE=DURATION:PT1H
X-Robots-Tag:noindex
X-PUBLISHED-TTL:PT1H
BEGIN:VTIMEZONE
TZID:America/Chicago
BEGIN:DAYLIGHT
TZOFFSETFROM:-0600
TZOFFSETTO:-0500
TZNAME:CDT
DTSTART:20230312T080000
END:DAYLIGHT
BEGIN:STANDARD
TZOFFSETFROM:-0500
TZOFFSETTO:-0600
TZNAME:CST
DTSTART:20231105T070000
END:STANDARD
BEGIN:DAYLIGHT
TZOFFSETFROM:-0600
TZOFFSETTO:-0500
TZNAME:CDT
DTSTART:20240310T080000
END:DAYLIGHT
BEGIN:STANDARD
TZOFFSETFROM:-0500
TZOFFSETTO:-0600
TZNAME:CST
DTSTART:20241103T070000
END:STANDARD
BEGIN:DAYLIGHT
TZOFFSETFROM:-0600
TZOFFSETTO:-0500
TZNAME:CDT
DTSTART:20250309T080000
END:DAYLIGHT
BEGIN:STANDARD
TZOFFSETFROM:-0500
TZOFFSETTO:-0600
TZNAME:CST
DTSTART:20251102T070000
END:STANDARD
END:VTIMEZONE
BEGIN:VEVENT
DTSTART;TZID=America/Chicago:20240315T193000
DTEND;TZID=America/Chicago:20240315T203000
DTSTAMP:20260422T062517
CREATED:20240228T225256Z
LAST-MODIFIED:20240228T225256Z
UID:3273-1710531000-1710534600@hrpo.lsu.edu
SUMMARY:Friday Night Lecture Series: "Wonders of the Spring Sky"
DESCRIPTION:BREC Education Curator Amy Northrop will take the audience on a fascinating tour of Baton Rouge’s upcoming spring season. She’ll highlight the celestial gems that will sparkle throughout those three months–gems visitors will be able to see live if they continue to visit HRPO. [For ages fourteen and older. No admission fee.]
URL:https://hrpo.lsu.edu/event/friday-night-lecture-series-wonders-of-the-spring-sky/
LOCATION:Highland Road Park Observatory
CATEGORIES:March 2024
END:VEVENT
BEGIN:VEVENT
DTSTART;TZID=America/Chicago:20240315T203000
DTEND;TZID=America/Chicago:20240315T220000
DTSTAMP:20260422T062517
CREATED:20240228T225643Z
LAST-MODIFIED:20240228T225643Z
UID:3275-1710534600-1710540000@hrpo.lsu.edu
SUMMARY:Evening Sky Viewing
DESCRIPTION:Weather permitting\, viewing through one or more telescopes will take place. During this time the waxing crescent Moon will be at a maximum altitude of 59° in Taurus. Please keep headlights off while parking and leaving. Drive slowly! [For ages six and older. No admission fee.]
URL:https://hrpo.lsu.edu/event/evening-sky-viewing-65/
LOCATION:Highland Road Park Observatory
CATEGORIES:March 2024
END:VEVENT
END:VCALENDAR