BEGIN:VCALENDAR
VERSION:2.0
PRODID:-//Highland Road Park Observatory - ECPv6.15.20//NONSGML v1.0//EN
CALSCALE:GREGORIAN
METHOD:PUBLISH
X-WR-CALNAME:Highland Road Park Observatory
X-ORIGINAL-URL:https://hrpo.lsu.edu
X-WR-CALDESC:Events for Highland Road Park Observatory
REFRESH-INTERVAL;VALUE=DURATION:PT1H
X-Robots-Tag:noindex
X-PUBLISHED-TTL:PT1H
BEGIN:VTIMEZONE
TZID:America/Chicago
BEGIN:DAYLIGHT
TZOFFSETFROM:-0600
TZOFFSETTO:-0500
TZNAME:CDT
DTSTART:20230312T080000
END:DAYLIGHT
BEGIN:STANDARD
TZOFFSETFROM:-0500
TZOFFSETTO:-0600
TZNAME:CST
DTSTART:20231105T070000
END:STANDARD
BEGIN:DAYLIGHT
TZOFFSETFROM:-0600
TZOFFSETTO:-0500
TZNAME:CDT
DTSTART:20240310T080000
END:DAYLIGHT
BEGIN:STANDARD
TZOFFSETFROM:-0500
TZOFFSETTO:-0600
TZNAME:CST
DTSTART:20241103T070000
END:STANDARD
BEGIN:DAYLIGHT
TZOFFSETFROM:-0600
TZOFFSETTO:-0500
TZNAME:CDT
DTSTART:20250309T080000
END:DAYLIGHT
BEGIN:STANDARD
TZOFFSETFROM:-0500
TZOFFSETTO:-0600
TZNAME:CST
DTSTART:20251102T070000
END:STANDARD
END:VTIMEZONE
BEGIN:VEVENT
DTSTART;TZID=America/Chicago:20240316T100000
DTEND;TZID=America/Chicago:20240316T120000
DTSTAMP:20260420T161404
CREATED:20240228T230424Z
LAST-MODIFIED:20240228T230424Z
UID:3277-1710583200-1710590400@hrpo.lsu.edu
SUMMARY:Science Academy: "Rocks and Minerals"
DESCRIPTION:What are rocks and minerals–and who decides what is considered a “gem”? Cadets will have dozens of samples to study in real time during this one-time-only standalone session!  [For ages eight to twelve. $5 per EBR-Parish Cadet; $6 per other-Parish Cadet.] \nTo register\, go to www.brec.org\, access the registration function and use Activity Number 531990.
URL:https://hrpo.lsu.edu/event/science-academy-rocks-and-minerals/
LOCATION:Highland Road Park Observatory
CATEGORIES:March 2024
END:VEVENT
BEGIN:VEVENT
DTSTART;TZID=America/Chicago:20240316T190000
DTEND;TZID=America/Chicago:20240316T220000
DTSTAMP:20260420T161404
CREATED:20240228T230741Z
LAST-MODIFIED:20240228T230741Z
UID:3279-1710615600-1710626400@hrpo.lsu.edu
SUMMARY:Plus Night: "Pi in the Sky"
DESCRIPTION:Weather permitting\, viewing through one or more telescopes will take place. There will also be physical science demonstrations\, a marshmallow roast\, a sky tour and a game for kids to earn small prizes. During this time the First Quarter Moon will be at a maximum altitude of 88° in Taurus. Please keep headlights off while parking and leaving. Drive slowly! [For ages six and older. No admission fee.]
URL:https://hrpo.lsu.edu/event/plus-night-pi-in-the-sky/
LOCATION:Highland Road Park Observatory
CATEGORIES:March 2024
END:VEVENT
END:VCALENDAR