BEGIN:VCALENDAR
VERSION:2.0
PRODID:-//Highland Road Park Observatory - ECPv6.15.20//NONSGML v1.0//EN
CALSCALE:GREGORIAN
METHOD:PUBLISH
X-ORIGINAL-URL:https://hrpo.lsu.edu
X-WR-CALDESC:Events for Highland Road Park Observatory
REFRESH-INTERVAL;VALUE=DURATION:PT1H
X-Robots-Tag:noindex
X-PUBLISHED-TTL:PT1H
BEGIN:VTIMEZONE
TZID:America/Chicago
BEGIN:DAYLIGHT
TZOFFSETFROM:-0600
TZOFFSETTO:-0500
TZNAME:CDT
DTSTART:20230312T080000
END:DAYLIGHT
BEGIN:STANDARD
TZOFFSETFROM:-0500
TZOFFSETTO:-0600
TZNAME:CST
DTSTART:20231105T070000
END:STANDARD
BEGIN:DAYLIGHT
TZOFFSETFROM:-0600
TZOFFSETTO:-0500
TZNAME:CDT
DTSTART:20240310T080000
END:DAYLIGHT
BEGIN:STANDARD
TZOFFSETFROM:-0500
TZOFFSETTO:-0600
TZNAME:CST
DTSTART:20241103T070000
END:STANDARD
BEGIN:DAYLIGHT
TZOFFSETFROM:-0600
TZOFFSETTO:-0500
TZNAME:CDT
DTSTART:20250309T080000
END:DAYLIGHT
BEGIN:STANDARD
TZOFFSETFROM:-0500
TZOFFSETTO:-0600
TZNAME:CST
DTSTART:20251102T070000
END:STANDARD
END:VTIMEZONE
BEGIN:VEVENT
DTSTART;TZID=America/Chicago:20240324T190000
DTEND;TZID=America/Chicago:20240324T203000
DTSTAMP:20260422T062456
CREATED:20240229T235042Z
LAST-MODIFIED:20240229T235824Z
UID:3295-1711306800-1711312200@hrpo.lsu.edu
SUMMARY:Mercurian Elongation
DESCRIPTION:Periodically Mercury reaches its greatest angular separation in the sky (elongation) from the Sun. This is the safest way to view Mercury by amateurs. Come join us at the Burbank Soccer Complex! The planet will appear as a “half-Mercury”. The Full Moon and Jupiter will also be seen. [For ages six and older. No admission fee. Binocular strongly recommended.]
URL:https://hrpo.lsu.edu/event/mercurian-elongation-4/
LOCATION:Burbank Soccer Complex\, 12400 Burbank Drive\, Baton Rouge\, Louisiana
CATEGORIES:March 2024
END:VEVENT
END:VCALENDAR