BEGIN:VCALENDAR
VERSION:2.0
PRODID:-//Highland Road Park Observatory - ECPv6.15.20//NONSGML v1.0//EN
CALSCALE:GREGORIAN
METHOD:PUBLISH
X-WR-CALNAME:Highland Road Park Observatory
X-ORIGINAL-URL:https://hrpo.lsu.edu
X-WR-CALDESC:Events for Highland Road Park Observatory
REFRESH-INTERVAL;VALUE=DURATION:PT1H
X-Robots-Tag:noindex
X-PUBLISHED-TTL:PT1H
BEGIN:VTIMEZONE
TZID:America/Chicago
BEGIN:DAYLIGHT
TZOFFSETFROM:-0600
TZOFFSETTO:-0500
TZNAME:CDT
DTSTART:20230312T080000
END:DAYLIGHT
BEGIN:STANDARD
TZOFFSETFROM:-0500
TZOFFSETTO:-0600
TZNAME:CST
DTSTART:20231105T070000
END:STANDARD
BEGIN:DAYLIGHT
TZOFFSETFROM:-0600
TZOFFSETTO:-0500
TZNAME:CDT
DTSTART:20240310T080000
END:DAYLIGHT
BEGIN:STANDARD
TZOFFSETFROM:-0500
TZOFFSETTO:-0600
TZNAME:CST
DTSTART:20241103T070000
END:STANDARD
BEGIN:DAYLIGHT
TZOFFSETFROM:-0600
TZOFFSETTO:-0500
TZNAME:CDT
DTSTART:20250309T080000
END:DAYLIGHT
BEGIN:STANDARD
TZOFFSETFROM:-0500
TZOFFSETTO:-0600
TZNAME:CST
DTSTART:20251102T070000
END:STANDARD
END:VTIMEZONE
BEGIN:VEVENT
DTSTART;TZID=America/Chicago:20240330T120000
DTEND;TZID=America/Chicago:20240330T140000
DTSTAMP:20260421T162640
CREATED:20240229T235607Z
LAST-MODIFIED:20240229T235607Z
UID:3298-1711800000-1711807200@hrpo.lsu.edu
SUMMARY:Solar Viewing
DESCRIPTION:Weather permitting\, viewing of the Sun’s image in three different manners (indirectly onto a white surface\, directly with safely-filtered optical light and directly in hydrogen-alpha wavelength) will take place. During this time the Sun will be in the constellation Pisces at a maximum altitude of 64°. Protective clothing and sunscreen are recommended. [For ages six and older. No admission fee.]
URL:https://hrpo.lsu.edu/event/solar-viewing-11/
LOCATION:Highland Road Park Observatory
CATEGORIES:March 2024
END:VEVENT
BEGIN:VEVENT
DTSTART;TZID=America/Chicago:20240330T153000
DTEND;TZID=America/Chicago:20240330T193000
DTSTAMP:20260421T162640
CREATED:20240301T000143Z
LAST-MODIFIED:20240301T000143Z
UID:3300-1711812600-1711827000@hrpo.lsu.edu
SUMMARY:STEM Expansion: "Chemistry"
DESCRIPTION:This program offers advanced topics\, activity extensions and all-new games and demonstrations to older youth. Certificates are earned and archived as well as modern experiments take place. There are also giveaways and door prizes. [For ages twelve to sixteen. $15 per EBR parish registrant; $18 per other-parish registrant. Register via WebTrac; use activity number 531993. Deadline for online registration is 6pm the day (Friday) before.]
URL:https://hrpo.lsu.edu/event/stem-expansion-chemistry/
LOCATION:Highland Road Park Observatory
CATEGORIES:March 2024
END:VEVENT
BEGIN:VEVENT
DTSTART;TZID=America/Chicago:20240330T193000
DTEND;TZID=America/Chicago:20240330T220000
DTSTAMP:20260421T162640
CREATED:20240301T000643Z
LAST-MODIFIED:20240301T000643Z
UID:3302-1711827000-1711836000@hrpo.lsu.edu
SUMMARY:Evening Sky Viewing
DESCRIPTION:Weather permitting\, viewing through one or more telescopes will take place. During this time the waning gibbous Moon will be below the horizon. Please keep headlights off while parking and leaving. Drive slowly! [For ages six and older. No admission fee.]
URL:https://hrpo.lsu.edu/event/evening-sky-viewing-68/
LOCATION:Highland Road Park Observatory
CATEGORIES:March 2024
END:VEVENT
END:VCALENDAR