BEGIN:VCALENDAR
VERSION:2.0
PRODID:-//Highland Road Park Observatory - ECPv6.15.20//NONSGML v1.0//EN
CALSCALE:GREGORIAN
METHOD:PUBLISH
X-ORIGINAL-URL:https://hrpo.lsu.edu
X-WR-CALDESC:Events for Highland Road Park Observatory
REFRESH-INTERVAL;VALUE=DURATION:PT1H
X-Robots-Tag:noindex
X-PUBLISHED-TTL:PT1H
BEGIN:VTIMEZONE
TZID:America/Chicago
BEGIN:DAYLIGHT
TZOFFSETFROM:-0600
TZOFFSETTO:-0500
TZNAME:CDT
DTSTART:20240310T080000
END:DAYLIGHT
BEGIN:STANDARD
TZOFFSETFROM:-0500
TZOFFSETTO:-0600
TZNAME:CST
DTSTART:20241103T070000
END:STANDARD
BEGIN:DAYLIGHT
TZOFFSETFROM:-0600
TZOFFSETTO:-0500
TZNAME:CDT
DTSTART:20250309T080000
END:DAYLIGHT
BEGIN:STANDARD
TZOFFSETFROM:-0500
TZOFFSETTO:-0600
TZNAME:CST
DTSTART:20251102T070000
END:STANDARD
BEGIN:DAYLIGHT
TZOFFSETFROM:-0600
TZOFFSETTO:-0500
TZNAME:CDT
DTSTART:20260308T080000
END:DAYLIGHT
BEGIN:STANDARD
TZOFFSETFROM:-0500
TZOFFSETTO:-0600
TZNAME:CST
DTSTART:20261101T070000
END:STANDARD
END:VTIMEZONE
BEGIN:VEVENT
DTSTART;TZID=America/Chicago:20250208T193000
DTEND;TZID=America/Chicago:20250208T220000
DTSTAMP:20260421T150442
CREATED:20250131T215709Z
LAST-MODIFIED:20250209T003856Z
UID:4961-1739043000-1739052000@hrpo.lsu.edu
SUMMARY:Evening Sky Viewing
DESCRIPTION:Weather permitting\, viewing through one or more telescopes will take place. During this time the waxing gibbous Moon will be at a maximum altitude of 88° in Gemini. Please keep headlights off while parking and leaving. Drive slowly! [For ages six and older. No admission fee.] \nNOAA Forecast (Very Good): precipitation potential 0%\, sky cover 7%\, relative humidity 86%\, temperature 22C\, wind SW 9 km/h
URL:https://hrpo.lsu.edu/event/evening-sky-viewing-133/
LOCATION:Highland Road Park Observatory
CATEGORIES:February 2025
END:VEVENT
BEGIN:VEVENT
DTSTART;TZID=America/Chicago:20250208T100000
DTEND;TZID=America/Chicago:20250208T120000
DTSTAMP:20260421T150442
CREATED:20250131T215203Z
LAST-MODIFIED:20250131T215203Z
UID:4959-1739008800-1739016000@hrpo.lsu.edu
SUMMARY:Science Academy: "ISS Expedition 9"
DESCRIPTION:The International Space Station is one of the greatest engineering feats in human history. From April 2004 to October 2004 Gennady Padalka and Mike Fincke conducted experiments and did what few have done-–lived off the Earth. Cadets will build on the circuit board and sample the astronauts’ menu! [For ages eight to twelve. $5 per EBR-Parish Cadet; $6 per other-Parish Cadet.] \nTo register\, go to www.brec.org\, access the registration function and use Activity Number 531990.
URL:https://hrpo.lsu.edu/event/science-academy-iss-expedition-9/
LOCATION:Highland Road Park Observatory
CATEGORIES:February 2025
END:VEVENT
BEGIN:VEVENT
DTSTART;TZID=America/Chicago:20250207T203000
DTEND;TZID=America/Chicago:20250207T213000
DTSTAMP:20260421T150442
CREATED:20250129T232713Z
LAST-MODIFIED:20250208T003856Z
UID:4957-1738960200-1738963800@hrpo.lsu.edu
SUMMARY:Evening Sky Viewing
DESCRIPTION:Weather permitting\, viewing through one or more telescopes will take place. During this time the waxing gibbous Moon will be at a maximum altitude of 88° in Taurus. Please keep headlights off while parking and leaving. Drive slowly! [For ages six and older. No admission fee.] \nNOAA Forecast (Very Good): precipitation potential 0%\, sky cover 8%\, relative humidity 87%\, temperature 21C\, wind SW 5 km/h
URL:https://hrpo.lsu.edu/event/evening-sky-viewing-132/
LOCATION:Highland Road Park Observatory
CATEGORIES:February 2025
END:VEVENT
BEGIN:VEVENT
DTSTART;TZID=America/Chicago:20250207T193000
DTEND;TZID=America/Chicago:20250207T203000
DTSTAMP:20260421T150442
CREATED:20250129T232049Z
LAST-MODIFIED:20250129T232125Z
UID:4954-1738956600-1738960200@hrpo.lsu.edu
SUMMARY:Friday Night Lecture Series: "Nome Serum Run"
DESCRIPTION:In a record time\, the life-saving antitoxin medicine reached the Alaska town threatened with annihilation from a spread of diphtheria. Education Program Specialist Amy Northrop presents the story for the 100th anniversary of this thrilling event.  [Postponed from 24 January. For ages fourteen and older. No admission fee.]
URL:https://hrpo.lsu.edu/event/evening-sky-viewing-131/
LOCATION:Highland Road Park Observatory
CATEGORIES:February 2025
END:VEVENT
BEGIN:VEVENT
DTSTART;TZID=America/Chicago:20250201T193000
DTEND;TZID=America/Chicago:20250201T220000
DTSTAMP:20260421T150442
CREATED:20250105T003913Z
LAST-MODIFIED:20250202T004309Z
UID:4864-1738438200-1738447200@hrpo.lsu.edu
SUMMARY:Evening Sky Viewing
DESCRIPTION:Weather permitting\, viewing through one or more telescopes will take place. During this time the waxing crescent Moon will be at a maximum altitude of 22° in Pisces. Please keep headlights off while parking and leaving. Drive slowly! [For ages six and older. No admission fee.] \nNOAA Forecast (Excellent): precipitation potential 0%\, sky cover 3%\, relative humidity 70%\, temperature 15C\, wind S 2 km/h
URL:https://hrpo.lsu.edu/event/evening-sky-viewing-130/
LOCATION:Highland Road Park Observatory
CATEGORIES:February 2025
END:VEVENT
BEGIN:VEVENT
DTSTART;TZID=America/Chicago:20250201T153000
DTEND;TZID=America/Chicago:20250201T193000
DTSTAMP:20260421T150442
CREATED:20250105T002338Z
LAST-MODIFIED:20250105T002338Z
UID:4862-1738423800-1738438200@hrpo.lsu.edu
SUMMARY:Learn Your Sky
DESCRIPTION:This exciting one-day course is tailor-made to instruct the patron in the basics of the unaided-eye Baton Rouge sky. [Limit thirty enrollees. $15 per EBR-Parish enrollee; $18 per other-Parish enrollee. Enrollee must be eighteen or older. To register go to www.brec.org\, access the registration function and use Activity Number 531992.
URL:https://hrpo.lsu.edu/event/learn-your-sky/
LOCATION:Highland Road Park Observatory
CATEGORIES:February 2025
END:VEVENT
BEGIN:VEVENT
DTSTART;TZID=America/Chicago:20250201T100000
DTEND;TZID=America/Chicago:20250201T120000
DTSTAMP:20260421T150442
CREATED:20250104T235453Z
LAST-MODIFIED:20250104T235453Z
UID:4860-1738404000-1738411200@hrpo.lsu.edu
SUMMARY:Science Academy: "Sirius and Canopus"
DESCRIPTION:The two brightest stars in the night sky are visible right now. Cadets will encounter the stunning and fierce beauty of these scientifically-interesting objects. [For ages eight to twelve. $5 per EBR-Parish Cadet; $6 per other-Parish Cadet. To register go to www.brec.org\, access the registration function and use Activity Number 531990.]
URL:https://hrpo.lsu.edu/event/science-academy-sirius-and-canopus/
LOCATION:Highland Road Park Observatory
CATEGORIES:February 2025
END:VEVENT
END:VCALENDAR