BEGIN:VCALENDAR
VERSION:2.0
PRODID:-//Highland Road Park Observatory - ECPv6.15.20//NONSGML v1.0//EN
CALSCALE:GREGORIAN
METHOD:PUBLISH
X-WR-CALNAME:Highland Road Park Observatory
X-ORIGINAL-URL:https://hrpo.lsu.edu
X-WR-CALDESC:Events for Highland Road Park Observatory
REFRESH-INTERVAL;VALUE=DURATION:PT1H
X-Robots-Tag:noindex
X-PUBLISHED-TTL:PT1H
BEGIN:VTIMEZONE
TZID:America/Chicago
BEGIN:DAYLIGHT
TZOFFSETFROM:-0600
TZOFFSETTO:-0500
TZNAME:CDT
DTSTART:20240310T080000
END:DAYLIGHT
BEGIN:STANDARD
TZOFFSETFROM:-0500
TZOFFSETTO:-0600
TZNAME:CST
DTSTART:20241103T070000
END:STANDARD
BEGIN:DAYLIGHT
TZOFFSETFROM:-0600
TZOFFSETTO:-0500
TZNAME:CDT
DTSTART:20250309T080000
END:DAYLIGHT
BEGIN:STANDARD
TZOFFSETFROM:-0500
TZOFFSETTO:-0600
TZNAME:CST
DTSTART:20251102T070000
END:STANDARD
BEGIN:DAYLIGHT
TZOFFSETFROM:-0600
TZOFFSETTO:-0500
TZNAME:CDT
DTSTART:20260308T080000
END:DAYLIGHT
BEGIN:STANDARD
TZOFFSETFROM:-0500
TZOFFSETTO:-0600
TZNAME:CST
DTSTART:20261101T070000
END:STANDARD
END:VTIMEZONE
BEGIN:VEVENT
DTSTART;TZID=America/Chicago:20250104T100000
DTEND;TZID=America/Chicago:20250104T120000
DTSTAMP:20260421T012433
CREATED:20241231T221100Z
LAST-MODIFIED:20241231T221100Z
UID:4765-1735984800-1735992000@hrpo.lsu.edu
SUMMARY:Science Academy: "Venus"
DESCRIPTION:In anticipation of its upcoming evening elongation\, Cadets will learn about the newly-discovered truths and still-extant mysteries of the brightest and hottest planet in the Solar System. [For ages eight to twelve. $5 per EBR-Parish Cadet; $6 per other-Parish Cadet. To register go to www.brec.org\, access the registration function and use Activity Number 531990.]
URL:https://hrpo.lsu.edu/event/science-academy-venus-2/
LOCATION:Highland Road Park Observatory
CATEGORIES:January 2025
END:VEVENT
BEGIN:VEVENT
DTSTART;TZID=America/Chicago:20250104T193000
DTEND;TZID=America/Chicago:20250104T220000
DTSTAMP:20260421T012433
CREATED:20241231T221752Z
LAST-MODIFIED:20250104T233902Z
UID:4767-1736019000-1736028000@hrpo.lsu.edu
SUMMARY:Evening Sky Viewing
DESCRIPTION:The 20OGS will not be in use. \nWeather permitting\, viewing through one or more telescopes will take place. During this time the waxing crescent Moon will be at a maximum altitude of 33° in Aquarius. Please keep headlights off while parking and leaving. Drive slowly! [For ages six and older. No admission fee.] \nNOAA Forecast (Poor): precipitation potential 13%\, sky cover 79%\, relative humidity 90%\, temperature 14C\, wind E 14 km/h
URL:https://hrpo.lsu.edu/event/evening-sky-viewing-124/
LOCATION:Highland Road Park Observatory
CATEGORIES:January 2025
END:VEVENT
END:VCALENDAR