BEGIN:VCALENDAR
VERSION:2.0
PRODID:-//Highland Road Park Observatory - ECPv6.15.20//NONSGML v1.0//EN
CALSCALE:GREGORIAN
METHOD:PUBLISH
X-WR-CALNAME:Highland Road Park Observatory
X-ORIGINAL-URL:https://hrpo.lsu.edu
X-WR-CALDESC:Events for Highland Road Park Observatory
REFRESH-INTERVAL;VALUE=DURATION:PT1H
X-Robots-Tag:noindex
X-PUBLISHED-TTL:PT1H
BEGIN:VTIMEZONE
TZID:America/Chicago
BEGIN:DAYLIGHT
TZOFFSETFROM:-0600
TZOFFSETTO:-0500
TZNAME:CDT
DTSTART:20240310T080000
END:DAYLIGHT
BEGIN:STANDARD
TZOFFSETFROM:-0500
TZOFFSETTO:-0600
TZNAME:CST
DTSTART:20241103T070000
END:STANDARD
BEGIN:DAYLIGHT
TZOFFSETFROM:-0600
TZOFFSETTO:-0500
TZNAME:CDT
DTSTART:20250309T080000
END:DAYLIGHT
BEGIN:STANDARD
TZOFFSETFROM:-0500
TZOFFSETTO:-0600
TZNAME:CST
DTSTART:20251102T070000
END:STANDARD
BEGIN:DAYLIGHT
TZOFFSETFROM:-0600
TZOFFSETTO:-0500
TZNAME:CDT
DTSTART:20260308T080000
END:DAYLIGHT
BEGIN:STANDARD
TZOFFSETFROM:-0500
TZOFFSETTO:-0600
TZNAME:CST
DTSTART:20261101T070000
END:STANDARD
END:VTIMEZONE
BEGIN:VEVENT
DTSTART;TZID=America/Chicago:20250110T193000
DTEND;TZID=America/Chicago:20250110T203000
DTSTAMP:20260421T150440
CREATED:20241231T224137Z
LAST-MODIFIED:20241231T224137Z
UID:4775-1736537400-1736541000@hrpo.lsu.edu
SUMMARY:Friday Night Lecture Series: "The Red Planet"
DESCRIPTION:A variety of personnel will recount their personal experience with a place that has inspired science and fantasy for centuries!  [For ages fourteen and older. No admission fee.]
URL:https://hrpo.lsu.edu/event/friday-night-lecture-series-the-red-planet/
LOCATION:Highland Road Park Observatory
CATEGORIES:January 2025
END:VEVENT
BEGIN:VEVENT
DTSTART;TZID=America/Chicago:20250110T203000
DTEND;TZID=America/Chicago:20250110T220000
DTSTAMP:20260421T150440
CREATED:20241231T224823Z
LAST-MODIFIED:20250110T234544Z
UID:4777-1736541000-1736546400@hrpo.lsu.edu
SUMMARY:Evening Sky Viewing
DESCRIPTION:The 20OGS will not be in use. \nWeather permitting\, viewing through one or more telescopes will take place. During this time the waxing gibbous Moon will be at a maximum altitude of 87° in Taurus. Please keep headlights off while parking and leaving. Drive slowly! [For ages six and older. No admission fee.] \nNOAA Forecast (Poor): precipitation potential 0%\, sky cover 91%\, relative humidity 90%\, temperature 5C\, wind chill 2C\, wind NW 16 km/h
URL:https://hrpo.lsu.edu/event/evening-sky-viewing-125/
LOCATION:Highland Road Park Observatory
CATEGORIES:January 2025
END:VEVENT
END:VCALENDAR