BEGIN:VCALENDAR
VERSION:2.0
PRODID:-//Highland Road Park Observatory - ECPv6.15.20//NONSGML v1.0//EN
CALSCALE:GREGORIAN
METHOD:PUBLISH
X-ORIGINAL-URL:https://hrpo.lsu.edu
X-WR-CALDESC:Events for Highland Road Park Observatory
REFRESH-INTERVAL;VALUE=DURATION:PT1H
X-Robots-Tag:noindex
X-PUBLISHED-TTL:PT1H
BEGIN:VTIMEZONE
TZID:America/Chicago
BEGIN:DAYLIGHT
TZOFFSETFROM:-0600
TZOFFSETTO:-0500
TZNAME:CDT
DTSTART:20240310T080000
END:DAYLIGHT
BEGIN:STANDARD
TZOFFSETFROM:-0500
TZOFFSETTO:-0600
TZNAME:CST
DTSTART:20241103T070000
END:STANDARD
BEGIN:DAYLIGHT
TZOFFSETFROM:-0600
TZOFFSETTO:-0500
TZNAME:CDT
DTSTART:20250309T080000
END:DAYLIGHT
BEGIN:STANDARD
TZOFFSETFROM:-0500
TZOFFSETTO:-0600
TZNAME:CST
DTSTART:20251102T070000
END:STANDARD
BEGIN:DAYLIGHT
TZOFFSETFROM:-0600
TZOFFSETTO:-0500
TZNAME:CDT
DTSTART:20260308T080000
END:DAYLIGHT
BEGIN:STANDARD
TZOFFSETFROM:-0500
TZOFFSETTO:-0600
TZNAME:CST
DTSTART:20261101T070000
END:STANDARD
END:VTIMEZONE
BEGIN:VEVENT
DTSTART;TZID=America/Chicago:20250111T100000
DTEND;TZID=America/Chicago:20250111T120000
DTSTAMP:20260421T132705
CREATED:20241231T225130Z
LAST-MODIFIED:20241231T225130Z
UID:4779-1736589600-1736596800@hrpo.lsu.edu
SUMMARY:Science Academy: "Mars"
DESCRIPTION:In anticipation of its upcoming opposition\, Cadets will learn about the newly-discovered truths and still-extant mysteries of the planet considered (after our Moon) the best location in the Solar System to establish a human colony! [For ages eight to twelve. $5 per EBR-Parish Cadet; $6 per other-Parish Cadet. To register go to www.brec.org\, access the registration function and use Activity Number 531990.]
URL:https://hrpo.lsu.edu/event/science-academy-mars/
LOCATION:Highland Road Park Observatory
CATEGORIES:January 2025
END:VEVENT
BEGIN:VEVENT
DTSTART;TZID=America/Chicago:20250111T153000
DTEND;TZID=America/Chicago:20250111T193000
DTSTAMP:20260421T132705
CREATED:20241231T225939Z
LAST-MODIFIED:20241231T225939Z
UID:4781-1736609400-1736623800@hrpo.lsu.edu
SUMMARY:Learn Your Telescope
DESCRIPTION:This exciting one-day course is tailor-made to instruct the enrollee in the use of a personal telescope. [Limit ten households. $15 per EBR-Parish household; $18 per other-Parish household. Up to four members of household allowed. Enrollee must be eighteen or older; all others must be eight or older. To register go to www.brec.org\, access the registration function and use Activity Number 531992.]
URL:https://hrpo.lsu.edu/event/learn-your-telescope-2/
LOCATION:Highland Road Park Observatory
CATEGORIES:January 2025
END:VEVENT
BEGIN:VEVENT
DTSTART;TZID=America/Chicago:20250111T193000
DTEND;TZID=America/Chicago:20250111T220000
DTSTAMP:20260421T132705
CREATED:20241231T230533Z
LAST-MODIFIED:20250112T004745Z
UID:4783-1736623800-1736632800@hrpo.lsu.edu
SUMMARY:Evening Sky Viewing
DESCRIPTION:Weather permitting\, viewing through one or more telescopes will take place. During this time the waxing gibbous Moon will be at a maximum altitude of 82° in Taurus. Please keep headlights off while parking and leaving. Drive slowly! [For ages six and older. No admission fee.] \nNOAA Forecast (Excellent): precipitation potential 0%\, sky cover 8%\, relative humidity 81%\, temperature 5C\, wind SE 2 km/h
URL:https://hrpo.lsu.edu/event/evening-sky-viewing-126/
LOCATION:Highland Road Park Observatory
CATEGORIES:January 2025
END:VEVENT
END:VCALENDAR