BEGIN:VCALENDAR
VERSION:2.0
PRODID:-//Highland Road Park Observatory - ECPv6.15.20//NONSGML v1.0//EN
CALSCALE:GREGORIAN
METHOD:PUBLISH
X-WR-CALNAME:Highland Road Park Observatory
X-ORIGINAL-URL:https://hrpo.lsu.edu
X-WR-CALDESC:Events for Highland Road Park Observatory
REFRESH-INTERVAL;VALUE=DURATION:PT1H
X-Robots-Tag:noindex
X-PUBLISHED-TTL:PT1H
BEGIN:VTIMEZONE
TZID:America/Chicago
BEGIN:DAYLIGHT
TZOFFSETFROM:-0600
TZOFFSETTO:-0500
TZNAME:CDT
DTSTART:20240310T080000
END:DAYLIGHT
BEGIN:STANDARD
TZOFFSETFROM:-0500
TZOFFSETTO:-0600
TZNAME:CST
DTSTART:20241103T070000
END:STANDARD
BEGIN:DAYLIGHT
TZOFFSETFROM:-0600
TZOFFSETTO:-0500
TZNAME:CDT
DTSTART:20250309T080000
END:DAYLIGHT
BEGIN:STANDARD
TZOFFSETFROM:-0500
TZOFFSETTO:-0600
TZNAME:CST
DTSTART:20251102T070000
END:STANDARD
BEGIN:DAYLIGHT
TZOFFSETFROM:-0600
TZOFFSETTO:-0500
TZNAME:CDT
DTSTART:20260308T080000
END:DAYLIGHT
BEGIN:STANDARD
TZOFFSETFROM:-0500
TZOFFSETTO:-0600
TZNAME:CST
DTSTART:20261101T070000
END:STANDARD
END:VTIMEZONE
BEGIN:VEVENT
DTSTART;TZID=America/Chicago:20250115T200000
DTEND;TZID=America/Chicago:20250116T000000
DTSTAMP:20260421T150428
CREATED:20250101T010730Z
LAST-MODIFIED:20250116T000754Z
UID:4789-1736971200-1736985600@hrpo.lsu.edu
SUMMARY:Martian Opposition
DESCRIPTION:No viewing will be attempted. HRPO will close by at least 10pm. \nThe Red Planet rises as the Sun sets. Weather permitting\, viewing of Mars will take place during this special event that takes over two years to repeat! The waning gibbous Moon\, Jupiter and Uranus will be available. [For ages six and older. No admission fee. Binocular recommended.] \nNOAA Forecast (Bad): precipitation potential 32%\, sky cover 88%\, relative humidity 82%\, temperature 10C\, wind N 3 km/h
URL:https://hrpo.lsu.edu/event/martian-opposition/
LOCATION:Highland Road Park Observatory
CATEGORIES:January 2025
END:VEVENT
END:VCALENDAR