BEGIN:VCALENDAR
VERSION:2.0
PRODID:-//Highland Road Park Observatory - ECPv6.15.20//NONSGML v1.0//EN
CALSCALE:GREGORIAN
METHOD:PUBLISH
X-ORIGINAL-URL:https://hrpo.lsu.edu
X-WR-CALDESC:Events for Highland Road Park Observatory
REFRESH-INTERVAL;VALUE=DURATION:PT1H
X-Robots-Tag:noindex
X-PUBLISHED-TTL:PT1H
BEGIN:VTIMEZONE
TZID:America/Chicago
BEGIN:DAYLIGHT
TZOFFSETFROM:-0600
TZOFFSETTO:-0500
TZNAME:CDT
DTSTART:20240310T080000
END:DAYLIGHT
BEGIN:STANDARD
TZOFFSETFROM:-0500
TZOFFSETTO:-0600
TZNAME:CST
DTSTART:20241103T070000
END:STANDARD
BEGIN:DAYLIGHT
TZOFFSETFROM:-0600
TZOFFSETTO:-0500
TZNAME:CDT
DTSTART:20250309T080000
END:DAYLIGHT
BEGIN:STANDARD
TZOFFSETFROM:-0500
TZOFFSETTO:-0600
TZNAME:CST
DTSTART:20251102T070000
END:STANDARD
BEGIN:DAYLIGHT
TZOFFSETFROM:-0600
TZOFFSETTO:-0500
TZNAME:CDT
DTSTART:20260308T080000
END:DAYLIGHT
BEGIN:STANDARD
TZOFFSETFROM:-0500
TZOFFSETTO:-0600
TZNAME:CST
DTSTART:20261101T070000
END:STANDARD
END:VTIMEZONE
BEGIN:VEVENT
DTSTART;TZID=America/Chicago:20250118T100000
DTEND;TZID=America/Chicago:20250118T120000
DTSTAMP:20260421T132707
CREATED:20250103T011100Z
LAST-MODIFIED:20250103T011100Z
UID:4801-1737194400-1737201600@hrpo.lsu.edu
SUMMARY:Science Academy: "Exoplanets"
DESCRIPTION:Just a few decades ago the concept of planets orbiting other stars was speculative. Now thousands of these bodies are known. Some mirror our own Solar System; some are alien beyond belief! Cadets will take a survey of galactic planets. [Registration in progress. For ages eight to twelve. $5 per EBR-Parish Cadet; $6 per other-Parish Cadet. To register go to www.brec.org\, access the registration function and use Activity Number 531990.]
URL:https://hrpo.lsu.edu/event/science-academy-exoplanets/
LOCATION:Highland Road Park Observatory
CATEGORIES:January 2025
END:VEVENT
BEGIN:VEVENT
DTSTART;TZID=America/Chicago:20250118T190000
DTEND;TZID=America/Chicago:20250118T220000
DTSTAMP:20260421T132707
CREATED:20250103T011714Z
LAST-MODIFIED:20250118T233810Z
UID:4803-1737226800-1737237600@hrpo.lsu.edu
SUMMARY:Plus Night: "Bright and Close"
DESCRIPTION:20OGS will open no earlier than 8:30pm. As the firepit is under construction for upgrading\, there will be no marshmallow roast. \nWeather permitting\, viewing through one or more telescopes will take place. There will also be physical science demonstrations\, a marshmallow roast\, a sky tour and a game for kids to earn small prizes. During this time the waning gibbous Moon will be below the horizon. Please keep headlights off while parking and leaving. Drive slowly! [For ages six and older. No admission fee.] \nNOAA Forecast (Good): precipitation potential 1%\, sky cover 43%\, relative humidity 74%\, temperature 16C\, wind NW 10 km/h
URL:https://hrpo.lsu.edu/event/plus-night-bright-and-close/
LOCATION:Highland Road Park Observatory
CATEGORIES:January 2025
END:VEVENT
END:VCALENDAR