BEGIN:VCALENDAR
VERSION:2.0
PRODID:-//Highland Road Park Observatory - ECPv6.15.20//NONSGML v1.0//EN
CALSCALE:GREGORIAN
METHOD:PUBLISH
X-ORIGINAL-URL:https://hrpo.lsu.edu
X-WR-CALDESC:Events for Highland Road Park Observatory
REFRESH-INTERVAL;VALUE=DURATION:PT1H
X-Robots-Tag:noindex
X-PUBLISHED-TTL:PT1H
BEGIN:VTIMEZONE
TZID:America/Chicago
BEGIN:DAYLIGHT
TZOFFSETFROM:-0600
TZOFFSETTO:-0500
TZNAME:CDT
DTSTART:20240310T080000
END:DAYLIGHT
BEGIN:STANDARD
TZOFFSETFROM:-0500
TZOFFSETTO:-0600
TZNAME:CST
DTSTART:20241103T070000
END:STANDARD
BEGIN:DAYLIGHT
TZOFFSETFROM:-0600
TZOFFSETTO:-0500
TZNAME:CDT
DTSTART:20250309T080000
END:DAYLIGHT
BEGIN:STANDARD
TZOFFSETFROM:-0500
TZOFFSETTO:-0600
TZNAME:CST
DTSTART:20251102T070000
END:STANDARD
BEGIN:DAYLIGHT
TZOFFSETFROM:-0600
TZOFFSETTO:-0500
TZNAME:CDT
DTSTART:20260308T080000
END:DAYLIGHT
BEGIN:STANDARD
TZOFFSETFROM:-0500
TZOFFSETTO:-0600
TZNAME:CST
DTSTART:20261101T070000
END:STANDARD
END:VTIMEZONE
BEGIN:VEVENT
DTSTART;TZID=America/Chicago:20250125T120000
DTEND;TZID=America/Chicago:20250125T140000
DTSTAMP:20260421T132707
CREATED:20250103T205658Z
LAST-MODIFIED:20250125T171730Z
UID:4809-1737806400-1737813600@hrpo.lsu.edu
SUMMARY:Solar Viewing
DESCRIPTION:Weather permitting\, viewing of the Sun’s image in three different manners (indirectly onto a white surface\, directly with safely-filtered optical light and directly in hydrogen-alpha wavelength) will take place. During this time the Sun will be in the constellation Capricornus at a maximum altitude of 41°. Protective clothing and sunscreen are recommended. [For ages six and older. No admission fee.] \nNOAA Forecast (Excellent): precipitation potential 0%\, sky cover 9%\, relative humidity 44%\, temperature 13C\, wind SE 10 km/h
URL:https://hrpo.lsu.edu/event/solar-viewing-28/
LOCATION:Highland Road Park Observatory
CATEGORIES:January 2025
END:VEVENT
BEGIN:VEVENT
DTSTART;TZID=America/Chicago:20250125T143000
DTEND;TZID=America/Chicago:20250125T183000
DTSTAMP:20260421T132707
CREATED:20250103T210002Z
LAST-MODIFIED:20250103T210040Z
UID:4811-1737815400-1737829800@hrpo.lsu.edu
SUMMARY:STEM Expansion: "Radio"
DESCRIPTION:This program offers advanced topics\, activity extensions and all-new games and demonstrations to older youth. Certificates are earned and archived as well as modern experiments take place. There are also giveaways and door prizes. [For ages twelve to sixteen. $15 per EBR parish registrant; $18 per other-parish registrant. Register via WebTrac; use activity number 531993. Deadline for online registration is 6pm the day (Friday) before.]
URL:https://hrpo.lsu.edu/event/stem-expansion-radio/
LOCATION:Highland Road Park Observatory
CATEGORIES:January 2025
END:VEVENT
BEGIN:VEVENT
DTSTART;TZID=America/Chicago:20250125T193000
DTEND;TZID=America/Chicago:20250125T220000
DTSTAMP:20260421T132707
CREATED:20250103T210643Z
LAST-MODIFIED:20250125T235323Z
UID:4813-1737833400-1737842400@hrpo.lsu.edu
SUMMARY:Evening Sky Viewing
DESCRIPTION:Weather permitting\, viewing through one or more telescopes will take place. During this time the waning crescent Moon will be below the horizon. Please keep headlights off while parking and leaving. Drive slowly! [For ages six and older. No admission fee.] \nNOAA Forecast (Good): precipitation potential 0%\, sky cover 56%\, relative humidity 80%\, temperature 10C\, wind SE 8 km/h
URL:https://hrpo.lsu.edu/event/evening-sky-viewing-128/
LOCATION:Highland Road Park Observatory
CATEGORIES:January 2025
END:VEVENT
END:VCALENDAR