BEGIN:VCALENDAR
VERSION:2.0
PRODID:-//Highland Road Park Observatory - ECPv6.15.20//NONSGML v1.0//EN
CALSCALE:GREGORIAN
METHOD:PUBLISH
X-ORIGINAL-URL:https://hrpo.lsu.edu
X-WR-CALDESC:Events for Highland Road Park Observatory
REFRESH-INTERVAL;VALUE=DURATION:PT1H
X-Robots-Tag:noindex
X-PUBLISHED-TTL:PT1H
BEGIN:VTIMEZONE
TZID:America/Chicago
BEGIN:DAYLIGHT
TZOFFSETFROM:-0600
TZOFFSETTO:-0500
TZNAME:CDT
DTSTART:20240310T080000
END:DAYLIGHT
BEGIN:STANDARD
TZOFFSETFROM:-0500
TZOFFSETTO:-0600
TZNAME:CST
DTSTART:20241103T070000
END:STANDARD
BEGIN:DAYLIGHT
TZOFFSETFROM:-0600
TZOFFSETTO:-0500
TZNAME:CDT
DTSTART:20250309T080000
END:DAYLIGHT
BEGIN:STANDARD
TZOFFSETFROM:-0500
TZOFFSETTO:-0600
TZNAME:CST
DTSTART:20251102T070000
END:STANDARD
BEGIN:DAYLIGHT
TZOFFSETFROM:-0600
TZOFFSETTO:-0500
TZNAME:CDT
DTSTART:20260308T080000
END:DAYLIGHT
BEGIN:STANDARD
TZOFFSETFROM:-0500
TZOFFSETTO:-0600
TZNAME:CST
DTSTART:20261101T070000
END:STANDARD
END:VTIMEZONE
BEGIN:VEVENT
DTSTART;TZID=America/Chicago:20250131T193000
DTEND;TZID=America/Chicago:20250131T203000
DTSTAMP:20260421T132713
CREATED:20250103T211008Z
LAST-MODIFIED:20250103T211008Z
UID:4816-1738351800-1738355400@hrpo.lsu.edu
SUMMARY:Friday Night Lecture Series: "Current Status of Spaceflight"
DESCRIPTION:We are all following the progress of the James Webb\, Kepler\, Psyche and of course Artemis. What delays are coming\, and why? Which ones are on schedule? Center Supervisor James DeOliveira presents.  [For ages fourteen and older. No admission fee.]
URL:https://hrpo.lsu.edu/event/friday-night-lecture-series-current-status-of-spaceflight/
LOCATION:Highland Road Park Observatory
CATEGORIES:January 2025
END:VEVENT
BEGIN:VEVENT
DTSTART;TZID=America/Chicago:20250131T203000
DTEND;TZID=America/Chicago:20250131T220000
DTSTAMP:20260421T132713
CREATED:20250103T211413Z
LAST-MODIFIED:20250131T235012Z
UID:4818-1738355400-1738360800@hrpo.lsu.edu
SUMMARY:Evening Sky Viewing
DESCRIPTION:Weather permitting\, viewing through one or more telescopes will take place. During this time the waxing crescent Moon will be below the horizon. Please keep headlights off while parking and leaving. Drive slowly! [For ages six and older. No admission fee.] \nNOAA Forecast (Good): precipitation potential 0%\, sky cover 64%\, relative humidity 67%\, temperature 14C\, wind W 6 km/h
URL:https://hrpo.lsu.edu/event/evening-sky-viewing-129/
LOCATION:Highland Road Park Observatory
CATEGORIES:January 2025
END:VEVENT
END:VCALENDAR