BEGIN:VCALENDAR
VERSION:2.0
PRODID:-//Highland Road Park Observatory - ECPv6.15.20//NONSGML v1.0//EN
CALSCALE:GREGORIAN
METHOD:PUBLISH
X-WR-CALNAME:Highland Road Park Observatory
X-ORIGINAL-URL:https://hrpo.lsu.edu
X-WR-CALDESC:Events for Highland Road Park Observatory
REFRESH-INTERVAL;VALUE=DURATION:PT1H
X-Robots-Tag:noindex
X-PUBLISHED-TTL:PT1H
BEGIN:VTIMEZONE
TZID:America/Chicago
BEGIN:DAYLIGHT
TZOFFSETFROM:-0600
TZOFFSETTO:-0500
TZNAME:CDT
DTSTART:20240310T080000
END:DAYLIGHT
BEGIN:STANDARD
TZOFFSETFROM:-0500
TZOFFSETTO:-0600
TZNAME:CST
DTSTART:20241103T070000
END:STANDARD
BEGIN:DAYLIGHT
TZOFFSETFROM:-0600
TZOFFSETTO:-0500
TZNAME:CDT
DTSTART:20250309T080000
END:DAYLIGHT
BEGIN:STANDARD
TZOFFSETFROM:-0500
TZOFFSETTO:-0600
TZNAME:CST
DTSTART:20251102T070000
END:STANDARD
BEGIN:DAYLIGHT
TZOFFSETFROM:-0600
TZOFFSETTO:-0500
TZNAME:CDT
DTSTART:20260308T080000
END:DAYLIGHT
BEGIN:STANDARD
TZOFFSETFROM:-0500
TZOFFSETTO:-0600
TZNAME:CST
DTSTART:20261101T070000
END:STANDARD
END:VTIMEZONE
BEGIN:VEVENT
DTSTART;TZID=America/Chicago:20250711T193000
DTEND;TZID=America/Chicago:20250711T203000
DTSTAMP:20260420T174504
CREATED:20250701T000335Z
LAST-MODIFIED:20250701T000423Z
UID:5585-1752262200-1752265800@hrpo.lsu.edu
SUMMARY:Friday Night Lecture Series: "The Place Called Outer Space"
DESCRIPTION:Only one hour away if you could drive straight up–the intrigue of space began thousands of years ago\, reached a golden age in the century span prior to this year and could have a platinum age depending on what choices we make on these coming nights…. [Postponed from 30 May. For ages fourteen and older. No admission fee.]
URL:https://hrpo.lsu.edu/event/friday-night-lecture-series-the-place-called-outer-space/
LOCATION:Highland Road Park Observatory
CATEGORIES:July 2025
END:VEVENT
BEGIN:VEVENT
DTSTART;TZID=America/Chicago:20250711T203000
DTEND;TZID=America/Chicago:20250711T220000
DTSTAMP:20260420T174504
CREATED:20250701T002958Z
LAST-MODIFIED:20250711T225313Z
UID:5587-1752265800-1752271200@hrpo.lsu.edu
SUMMARY:Evening Sky Viewing
DESCRIPTION:Sunset\, 8:08pm CDT.  \nWeather permitting\, viewing through one or more telescopes will take place. During this time the waning gibbous Moon will be at a maximum altitude of 8° in Capricornus. Please keep headlights off while parking and leaving. Drive slowly! [For ages six and older. No admission fee.] \nNOAA Forecast (Good): precipitation potential 4%\, sky cover 29%\, relative humidity 85%\, temperature 27C\, heat index 31C\, wind S 3 km/h \nTwilight Ends\, 9:44pm CDT.
URL:https://hrpo.lsu.edu/event/evening-sky-viewing-160/
LOCATION:Highland Road Park Observatory
CATEGORIES:July 2025
END:VEVENT
END:VCALENDAR