BEGIN:VCALENDAR
VERSION:2.0
PRODID:-//Highland Road Park Observatory - ECPv6.15.20//NONSGML v1.0//EN
CALSCALE:GREGORIAN
METHOD:PUBLISH
X-WR-CALNAME:Highland Road Park Observatory
X-ORIGINAL-URL:https://hrpo.lsu.edu
X-WR-CALDESC:Events for Highland Road Park Observatory
REFRESH-INTERVAL;VALUE=DURATION:PT1H
X-Robots-Tag:noindex
X-PUBLISHED-TTL:PT1H
BEGIN:VTIMEZONE
TZID:America/Chicago
BEGIN:DAYLIGHT
TZOFFSETFROM:-0600
TZOFFSETTO:-0500
TZNAME:CDT
DTSTART:20240310T080000
END:DAYLIGHT
BEGIN:STANDARD
TZOFFSETFROM:-0500
TZOFFSETTO:-0600
TZNAME:CST
DTSTART:20241103T070000
END:STANDARD
BEGIN:DAYLIGHT
TZOFFSETFROM:-0600
TZOFFSETTO:-0500
TZNAME:CDT
DTSTART:20250309T080000
END:DAYLIGHT
BEGIN:STANDARD
TZOFFSETFROM:-0500
TZOFFSETTO:-0600
TZNAME:CST
DTSTART:20251102T070000
END:STANDARD
BEGIN:DAYLIGHT
TZOFFSETFROM:-0600
TZOFFSETTO:-0500
TZNAME:CDT
DTSTART:20260308T080000
END:DAYLIGHT
BEGIN:STANDARD
TZOFFSETFROM:-0500
TZOFFSETTO:-0600
TZNAME:CST
DTSTART:20261101T070000
END:STANDARD
END:VTIMEZONE
BEGIN:VEVENT
DTSTART;TZID=America/Chicago:20250712T100000
DTEND;TZID=America/Chicago:20250712T120000
DTSTAMP:20260420T174505
CREATED:20250701T010340Z
LAST-MODIFIED:20250701T010340Z
UID:5589-1752314400-1752321600@hrpo.lsu.edu
SUMMARY:Science Academy: "Solar Maximum III"
DESCRIPTION:Between July and December the last great span of Solar Cycle 25 will present itself–awesome sunspot clusters\, plage strewn across the Sun’s surface\, intense flares\, massive prominences and nailbiting geomagnetic storm alerts are all possible and quite likely. Cadets will receive information and materials to help them remember Solar Cycle 25 forever! [For ages eight to twelve. $5 per EBR-Parish Cadet; $6 per other-Parish Cadet. Registration in either Part I or Part II is not a prerequisite.] \nTo register\, go to www.brec.org\, access the registration function and use Activity Number 231320.
URL:https://hrpo.lsu.edu/event/science-academy-solar-maximum-iii/
LOCATION:Highland Road Park Observatory
CATEGORIES:July 2025
END:VEVENT
BEGIN:VEVENT
DTSTART;TZID=America/Chicago:20250712T190000
DTEND;TZID=America/Chicago:20250712T220000
DTSTAMP:20260420T174505
CREATED:20250701T012618Z
LAST-MODIFIED:20250712T232317Z
UID:5591-1752346800-1752357600@hrpo.lsu.edu
SUMMARY:Plus Night: "Demonstration Overload"
DESCRIPTION:Due to the heat index there will be no fire. \nWeather permitting\, viewing through one or more telescopes will take place. There will also be physical science demonstrations\, a marshmallow roast\, a sky tour and a game for kids to earn small prizes. During this time the waning gibbous Moon will be at a maximum altitude of 1° in Capricornus. Please keep headlights off while parking and leaving. Drive slowly! [For ages six and older. No admission fee.] \nNOAA Forecast (Good): precipitation potential 4%\, sky cover 34%\, relative humidity 79%\, temperature 29C\, heat index 34C\, wind S 3 km/h \nSunset: 8:08pm CDT. Twilight Ends: 9:44pm CDT.
URL:https://hrpo.lsu.edu/event/plus-night-demonstration-overload-2/
LOCATION:Highland Road Park Observatory
CATEGORIES:July 2025
END:VEVENT
END:VCALENDAR