BEGIN:VCALENDAR
VERSION:2.0
PRODID:-//Highland Road Park Observatory - ECPv6.15.20//NONSGML v1.0//EN
CALSCALE:GREGORIAN
METHOD:PUBLISH
X-WR-CALNAME:Highland Road Park Observatory
X-ORIGINAL-URL:https://hrpo.lsu.edu
X-WR-CALDESC:Events for Highland Road Park Observatory
REFRESH-INTERVAL;VALUE=DURATION:PT1H
X-Robots-Tag:noindex
X-PUBLISHED-TTL:PT1H
BEGIN:VTIMEZONE
TZID:America/Chicago
BEGIN:DAYLIGHT
TZOFFSETFROM:-0600
TZOFFSETTO:-0500
TZNAME:CDT
DTSTART:20240310T080000
END:DAYLIGHT
BEGIN:STANDARD
TZOFFSETFROM:-0500
TZOFFSETTO:-0600
TZNAME:CST
DTSTART:20241103T070000
END:STANDARD
BEGIN:DAYLIGHT
TZOFFSETFROM:-0600
TZOFFSETTO:-0500
TZNAME:CDT
DTSTART:20250309T080000
END:DAYLIGHT
BEGIN:STANDARD
TZOFFSETFROM:-0500
TZOFFSETTO:-0600
TZNAME:CST
DTSTART:20251102T070000
END:STANDARD
BEGIN:DAYLIGHT
TZOFFSETFROM:-0600
TZOFFSETTO:-0500
TZNAME:CDT
DTSTART:20260308T080000
END:DAYLIGHT
BEGIN:STANDARD
TZOFFSETFROM:-0500
TZOFFSETTO:-0600
TZNAME:CST
DTSTART:20261101T070000
END:STANDARD
END:VTIMEZONE
BEGIN:VEVENT
DTSTART;TZID=America/Chicago:20250718T193000
DTEND;TZID=America/Chicago:20250718T203000
DTSTAMP:20260420T174509
CREATED:20250703T000723Z
LAST-MODIFIED:20250703T000723Z
UID:5615-1752867000-1752870600@hrpo.lsu.edu
SUMMARY:Friday Night Lecture Series: "Our Birth Stars"
DESCRIPTION:For years HRPO has been promoting the concept of birth stars! This presentation also will include the Star in Focus List that premieres this month! [For ages fourteen and older. No admission fee.]
URL:https://hrpo.lsu.edu/event/friday-night-lecture-series-our-birth-stars-2/
LOCATION:Highland Road Park Observatory
CATEGORIES:July 2025
END:VEVENT
BEGIN:VEVENT
DTSTART;TZID=America/Chicago:20250718T203000
DTEND;TZID=America/Chicago:20250718T220000
DTSTAMP:20260420T174509
CREATED:20250703T001916Z
LAST-MODIFIED:20250718T231046Z
UID:5617-1752870600-1752876000@hrpo.lsu.edu
SUMMARY:Evening Sky Viewing
DESCRIPTION:The 20OGS will not be in operation tonight. \nSunset\, 8:06pm CDT. \nWeather permitting\, viewing through one or more telescopes will take place. During this time the waning crescent Moon will be below the horizon. Please keep headlights off while parking and leaving. Drive slowly! [For ages six and older. No admission fee.] \nNOAA Forecast (Poor): precipitation potential 4%\, sky cover 71%\, relative humidity 89%\, temperature 27C\, heat index 30C\, wind S 3 km/h \nTwilight\, 9:40pm CDT.
URL:https://hrpo.lsu.edu/event/evening-sky-viewing-161/
LOCATION:Highland Road Park Observatory
CATEGORIES:July 2025
END:VEVENT
END:VCALENDAR