BEGIN:VCALENDAR
VERSION:2.0
PRODID:-//Highland Road Park Observatory - ECPv6.15.20//NONSGML v1.0//EN
CALSCALE:GREGORIAN
METHOD:PUBLISH
X-WR-CALNAME:Highland Road Park Observatory
X-ORIGINAL-URL:https://hrpo.lsu.edu
X-WR-CALDESC:Events for Highland Road Park Observatory
REFRESH-INTERVAL;VALUE=DURATION:PT1H
X-Robots-Tag:noindex
X-PUBLISHED-TTL:PT1H
BEGIN:VTIMEZONE
TZID:America/Chicago
BEGIN:DAYLIGHT
TZOFFSETFROM:-0600
TZOFFSETTO:-0500
TZNAME:CDT
DTSTART:20240310T080000
END:DAYLIGHT
BEGIN:STANDARD
TZOFFSETFROM:-0500
TZOFFSETTO:-0600
TZNAME:CST
DTSTART:20241103T070000
END:STANDARD
BEGIN:DAYLIGHT
TZOFFSETFROM:-0600
TZOFFSETTO:-0500
TZNAME:CDT
DTSTART:20250309T080000
END:DAYLIGHT
BEGIN:STANDARD
TZOFFSETFROM:-0500
TZOFFSETTO:-0600
TZNAME:CST
DTSTART:20251102T070000
END:STANDARD
BEGIN:DAYLIGHT
TZOFFSETFROM:-0600
TZOFFSETTO:-0500
TZNAME:CDT
DTSTART:20260308T080000
END:DAYLIGHT
BEGIN:STANDARD
TZOFFSETFROM:-0500
TZOFFSETTO:-0600
TZNAME:CST
DTSTART:20261101T070000
END:STANDARD
END:VTIMEZONE
BEGIN:VEVENT
DTSTART;TZID=America/Chicago:20250725T193000
DTEND;TZID=America/Chicago:20250725T203000
DTSTAMP:20260420T174508
CREATED:20250703T202659Z
LAST-MODIFIED:20250703T202659Z
UID:5625-1753471800-1753475400@hrpo.lsu.edu
SUMMARY:Friday Night Lecture Series: "The Discovery of Pluto"
DESCRIPTION:Discovered by an American and considered an official planet from 1930 to 2006\, Pluto holds a special place in space lore even for those who have never seen it in a scope. Its history and our investigations of it will be covered in this presentation. [For ages fourteen and older. No admission fee.]
URL:https://hrpo.lsu.edu/event/friday-night-lecture-series-the-discovery-of-pluto/
LOCATION:Highland Road Park Observatory
CATEGORIES:July 2025
END:VEVENT
BEGIN:VEVENT
DTSTART;TZID=America/Chicago:20250725T203000
DTEND;TZID=America/Chicago:20250725T220000
DTSTAMP:20260420T174508
CREATED:20250703T204436Z
LAST-MODIFIED:20250726T000101Z
UID:5627-1753475400-1753480800@hrpo.lsu.edu
SUMMARY:Evening Sky Viewing
DESCRIPTION:The 20OGS will not be in operation. HRPO will close at least by 9:45pm. \nSunset\, 8:02pm CDT. \nWeather permitting\, viewing through one or more telescopes will take place. During this time the waxing crescent Moon will be at a maximum altitude of 5° in Leo. Please keep headlights off while parking and leaving. Drive slowly! [For ages six and older. No admission fee.] \nNOAA Forecast (Poor): precipitation potential 15%\, sky cover 61%\, relative humidity 88%\, temperature 27C\, heat index 32C\, wind SE 10 km/h \nTwilight Ends\, 9:35pm CDT.
URL:https://hrpo.lsu.edu/event/evening-sky-viewing-163/
LOCATION:Highland Road Park Observatory
CATEGORIES:July 2025
END:VEVENT
END:VCALENDAR