BEGIN:VCALENDAR
VERSION:2.0
PRODID:-//Highland Road Park Observatory - ECPv6.15.20//NONSGML v1.0//EN
CALSCALE:GREGORIAN
METHOD:PUBLISH
X-WR-CALNAME:Highland Road Park Observatory
X-ORIGINAL-URL:https://hrpo.lsu.edu
X-WR-CALDESC:Events for Highland Road Park Observatory
REFRESH-INTERVAL;VALUE=DURATION:PT1H
X-Robots-Tag:noindex
X-PUBLISHED-TTL:PT1H
BEGIN:VTIMEZONE
TZID:America/Chicago
BEGIN:DAYLIGHT
TZOFFSETFROM:-0600
TZOFFSETTO:-0500
TZNAME:CDT
DTSTART:20250309T080000
END:DAYLIGHT
BEGIN:STANDARD
TZOFFSETFROM:-0500
TZOFFSETTO:-0600
TZNAME:CST
DTSTART:20251102T070000
END:STANDARD
BEGIN:DAYLIGHT
TZOFFSETFROM:-0600
TZOFFSETTO:-0500
TZNAME:CDT
DTSTART:20260308T080000
END:DAYLIGHT
BEGIN:STANDARD
TZOFFSETFROM:-0500
TZOFFSETTO:-0600
TZNAME:CST
DTSTART:20261101T070000
END:STANDARD
BEGIN:DAYLIGHT
TZOFFSETFROM:-0600
TZOFFSETTO:-0500
TZNAME:CDT
DTSTART:20270314T080000
END:DAYLIGHT
BEGIN:STANDARD
TZOFFSETFROM:-0500
TZOFFSETTO:-0600
TZNAME:CST
DTSTART:20271107T070000
END:STANDARD
END:VTIMEZONE
BEGIN:VEVENT
DTSTART;TZID=America/Chicago:20260227T193000
DTEND;TZID=America/Chicago:20260227T203000
DTSTAMP:20260421T183948
CREATED:20260206T210026Z
LAST-MODIFIED:20260206T210107Z
UID:6625-1772220600-1772224200@hrpo.lsu.edu
SUMMARY:Friday Night Lecture Series: "150 Years of the Telephone"
DESCRIPTION:Although many learned personages had truly crummy predictions regarding the invention’s future in society\, the telephone revolutionized the possibilities of long-distance communication. [For ages twelve and older. No admission fee.]
URL:https://hrpo.lsu.edu/event/friday-night-lecture-series-150-years-of-telephone/
LOCATION:Highland Road Park Observatory
CATEGORIES:February 2026
END:VEVENT
BEGIN:VEVENT
DTSTART;TZID=America/Chicago:20260227T203000
DTEND;TZID=America/Chicago:20260227T220000
DTSTAMP:20260421T183948
CREATED:20260206T210812Z
LAST-MODIFIED:20260227T235124Z
UID:6628-1772224200-1772229600@hrpo.lsu.edu
SUMMARY:Evening Sky Viewing
DESCRIPTION:Sunset\, 5:57pm CST. Twilight Ends\, 7:18pm CST. \nWeather permitting\, viewing through one or more telescopes will take place. During this time the waxing gibbous Moon will be at a maximum altitude of 84° in Gemini. Please keep headlights off while parking and leaving. Drive slowly! [For ages six and older. No admission fee.] \nNOAA Forecast (Excellent): precipitation potential 0%\, sky cover 4%\, relative humidity 73%\, temperature 19C\, wind NE 5 km/h
URL:https://hrpo.lsu.edu/event/evening-sky-viewing-200/
LOCATION:Highland Road Park Observatory
CATEGORIES:February 2026
END:VEVENT
END:VCALENDAR