BEGIN:VCALENDAR
VERSION:2.0
PRODID:-//Highland Road Park Observatory - ECPv6.15.20//NONSGML v1.0//EN
CALSCALE:GREGORIAN
METHOD:PUBLISH
X-ORIGINAL-URL:https://hrpo.lsu.edu
X-WR-CALDESC:Events for Highland Road Park Observatory
REFRESH-INTERVAL;VALUE=DURATION:PT1H
X-Robots-Tag:noindex
X-PUBLISHED-TTL:PT1H
BEGIN:VTIMEZONE
TZID:America/Chicago
BEGIN:DAYLIGHT
TZOFFSETFROM:-0600
TZOFFSETTO:-0500
TZNAME:CDT
DTSTART:20250309T080000
END:DAYLIGHT
BEGIN:STANDARD
TZOFFSETFROM:-0500
TZOFFSETTO:-0600
TZNAME:CST
DTSTART:20251102T070000
END:STANDARD
BEGIN:DAYLIGHT
TZOFFSETFROM:-0600
TZOFFSETTO:-0500
TZNAME:CDT
DTSTART:20260308T080000
END:DAYLIGHT
BEGIN:STANDARD
TZOFFSETFROM:-0500
TZOFFSETTO:-0600
TZNAME:CST
DTSTART:20261101T070000
END:STANDARD
BEGIN:DAYLIGHT
TZOFFSETFROM:-0600
TZOFFSETTO:-0500
TZNAME:CDT
DTSTART:20270314T080000
END:DAYLIGHT
BEGIN:STANDARD
TZOFFSETFROM:-0500
TZOFFSETTO:-0600
TZNAME:CST
DTSTART:20271107T070000
END:STANDARD
END:VTIMEZONE
BEGIN:VEVENT
DTSTART;TZID=America/Chicago:20260130T193000
DTEND;TZID=America/Chicago:20260130T203000
DTSTAMP:20260425T071058
CREATED:20260120T001758Z
LAST-MODIFIED:20260120T001758Z
UID:6509-1769801400-1769805000@hrpo.lsu.edu
SUMMARY:Friday Night Lecture Series: "Apollo 14 Fifty-Fifth Anniversary"
DESCRIPTION:It was the launch that had something to prove. Nearly a year after the near-disaster of Apollo Thirteen our country’s first spaceman–Alan Shepard–returned to space\, joined by Stuart Roosa and Edgar Mitchell. During this time when Americans readying for the launch of Artemis II\, former HRPO Center Supervisor Tom Northrop continues his Apollo anniversary talks. [For ages twelve and older. No admission fee.]
URL:https://hrpo.lsu.edu/event/friday-night-lecture-series-apollo-14-fifty-fifth-anniversary/
LOCATION:Highland Road Park Observatory
CATEGORIES:January 2026
END:VEVENT
BEGIN:VEVENT
DTSTART;TZID=America/Chicago:20260130T203000
DTEND;TZID=America/Chicago:20260130T220000
DTSTAMP:20260425T071058
CREATED:20260120T005244Z
LAST-MODIFIED:20260130T234655Z
UID:6511-1769805000-1769810400@hrpo.lsu.edu
SUMMARY:Evening Sky Viewing
DESCRIPTION:Sunset\, 5:39pm CST. Twilight Ends\, 7:02pm CST. \nWeather permitting\, viewing through one or more telescopes will take place. During this time the waxing gibbous Moon will be at a maximum altitude of 80° in Gemini. Please keep headlights off while parking and leaving. Drive slowly! [For ages six and older. No admission fee.] \nNOAA Forecast (Good): precipitation potential 0%\, sky cover 66%\, relative humidity 67%\, temperature 5C\, wind chill 2C\, wind N 16 km/h
URL:https://hrpo.lsu.edu/event/evening-sky-viewing-196/
LOCATION:Highland Road Park Observatory
CATEGORIES:January 2026
END:VEVENT
END:VCALENDAR