BEGIN:VCALENDAR
VERSION:2.0
PRODID:-//Highland Road Park Observatory - ECPv6.15.20//NONSGML v1.0//EN
CALSCALE:GREGORIAN
METHOD:PUBLISH
X-ORIGINAL-URL:https://hrpo.lsu.edu
X-WR-CALDESC:Events for Highland Road Park Observatory
REFRESH-INTERVAL;VALUE=DURATION:PT1H
X-Robots-Tag:noindex
X-PUBLISHED-TTL:PT1H
BEGIN:VTIMEZONE
TZID:America/Chicago
BEGIN:DAYLIGHT
TZOFFSETFROM:-0600
TZOFFSETTO:-0500
TZNAME:CDT
DTSTART:20250309T080000
END:DAYLIGHT
BEGIN:STANDARD
TZOFFSETFROM:-0500
TZOFFSETTO:-0600
TZNAME:CST
DTSTART:20251102T070000
END:STANDARD
BEGIN:DAYLIGHT
TZOFFSETFROM:-0600
TZOFFSETTO:-0500
TZNAME:CDT
DTSTART:20260308T080000
END:DAYLIGHT
BEGIN:STANDARD
TZOFFSETFROM:-0500
TZOFFSETTO:-0600
TZNAME:CST
DTSTART:20261101T070000
END:STANDARD
BEGIN:DAYLIGHT
TZOFFSETFROM:-0600
TZOFFSETTO:-0500
TZNAME:CDT
DTSTART:20270314T080000
END:DAYLIGHT
BEGIN:STANDARD
TZOFFSETFROM:-0500
TZOFFSETTO:-0600
TZNAME:CST
DTSTART:20271107T070000
END:STANDARD
END:VTIMEZONE
BEGIN:VEVENT
DTSTART;TZID=America/Chicago:20260112T190000
DTEND;TZID=America/Chicago:20260112T210000
DTSTAMP:20260421T184009
CREATED:20260108T010602Z
LAST-MODIFIED:20260108T010602Z
UID:6473-1768244400-1768251600@hrpo.lsu.edu
SUMMARY:Baton Rouge Astronomical Society Meeting
DESCRIPTION:For over four decades the Baton Rouge Astronomical Society has educated countless numbers of citizens in the joys of planetary and deep-sky gazing\, and factors to consider when buying a pair of binoculars or a telescope. Over the years BRAS members have constructed their own telescopes and photographic platforms; imaged comets; earned observing certificates; and discovered asteroids. Anyone interested in learning more about BRAS is invited to attend. [For ages fourteen and older. No admission fee.]
URL:https://hrpo.lsu.edu/event/baton-rouge-astronomical-society-meeting-33/
LOCATION:Highland Road Park Observatory
CATEGORIES:January 2026
END:VEVENT
BEGIN:VEVENT
DTSTART;TZID=America/Chicago:20260110T193000
DTEND;TZID=America/Chicago:20260110T220000
DTSTAMP:20260421T184009
CREATED:20260106T164547Z
LAST-MODIFIED:20260130T180301Z
UID:6466-1768073400-1768082400@hrpo.lsu.edu
SUMMARY:Evening Sky Viewing
DESCRIPTION:HRPO will remain open at least until 8:30pm. \nSunset\, 5:22pm CST. Twilight Ends\, 6:47pm CST. \nWeather permitting\, viewing through one or more telescopes will take place. During this time the Last Quarter Moon will be below the horizon. Please keep headlights off while parking and leaving. Drive slowly! [For ages six and older. No admission fee.] \nNOAA Forecast (Fair): precipitation potential 3%\, sky cover 78%\, relative humidity 79%\, temperature 15C\, wind N 16 km/h
URL:https://hrpo.lsu.edu/event/evening-sky-viewing-192/
LOCATION:Highland Road Park Observatory
CATEGORIES:2026a,January 2026,January 2026a
END:VEVENT
BEGIN:VEVENT
DTSTART;TZID=America/Chicago:20260110T100000
DTEND;TZID=America/Chicago:20260110T120000
DTSTAMP:20260421T184009
CREATED:20260106T163509Z
LAST-MODIFIED:20260106T163509Z
UID:6464-1768039200-1768046400@hrpo.lsu.edu
SUMMARY:Science Academy: "Distances in Space"
DESCRIPTION:The astronomical unit. The light-year. The parsec. The Universe gives new meaning to the word “vast”\, and Cadets will have a workshop illustrating the ways we reconcile that enormous area of space with the information we’ve learned and the information we want to learn! [For ages eight to twelve. $5 per EBR-Parish Cadet; $6 per other-Parish Cadet.] \nTo register\, go to www.brec.org\, access the registration function and use Activity Number 431320.
URL:https://hrpo.lsu.edu/event/science-academy-distances-in-space/
LOCATION:Highland Road Park Observatory
CATEGORIES:January 2026
END:VEVENT
BEGIN:VEVENT
DTSTART;TZID=America/Chicago:20260109T194500
DTEND;TZID=America/Chicago:20260109T214500
DTSTAMP:20260421T184009
CREATED:20260105T235217Z
LAST-MODIFIED:20260110T000925Z
UID:6462-1767987900-1767995100@hrpo.lsu.edu
SUMMARY:Jovian Opposition
DESCRIPTION:Cancelled. NOAA has issued a Flood Watch until 9am. \nJupiter is about 180 degrees from the Sun\, rising in Gemini as the Sun sets in Sagittarius. On this night we are the closest we’ll be to Jupiter all year! Weather permitting\, viewing of Jupiter will take place. [For ages six and older. No admission fee. Binocular recommended.] \nNOAA Forecast (Bad): precipitation potential 58%\, sky cover 79%\, relative humidity 92%\, temperature 23C\, wind S 8 km/h
URL:https://hrpo.lsu.edu/event/jovian-opposition-2/
LOCATION:Highland Road Park Observatory
CATEGORIES:January 2026
END:VEVENT
BEGIN:VEVENT
DTSTART;TZID=America/Chicago:20260103T193000
DTEND;TZID=America/Chicago:20260103T220000
DTSTAMP:20260421T184009
CREATED:20260104T003302Z
LAST-MODIFIED:20260105T234755Z
UID:6444-1767468600-1767477600@hrpo.lsu.edu
SUMMARY:Evening Sky Viewing
DESCRIPTION:Sunset\, 5:16pm CST. Twilight Ends\, 6:42pm CST. \nWeather permitting\, viewing through one or more telescopes will take place. During this time the waning gibbous Moon will be at a maximum altitude of 50° in Gemini. Please keep headlights off while parking and leaving. Drive slowly! [For ages six and older. No admission fee.] \nNOAA Forecast (Very Good): precipitation potential 0%\, sky cover 33%\, relative humidity 79%\, temperature 16C\, wind N 12 km/h
URL:https://hrpo.lsu.edu/event/evening-sky-viewing-191/
LOCATION:Highland Road Park Observatory
CATEGORIES:January 2026
END:VEVENT
BEGIN:VEVENT
DTSTART;TZID=America/Chicago:20260103T100000
DTEND;TZID=America/Chicago:20260103T120000
DTSTAMP:20260421T184009
CREATED:20260103T001242Z
LAST-MODIFIED:20260105T194037Z
UID:6438-1767434400-1767441600@hrpo.lsu.edu
SUMMARY:Science Academy: "Jupiter"
DESCRIPTION:In preparation for the opposition\, Cadets will learn Jupiter’s main characteristics and important past mission visits–and the future investigation of Europa! [For ages eight to twelve. $5 per EBR-Parish Cadet; $6 per other-Parish Cadet.] \nTo register\, go to www.brec.org\, access the registration function and use Activity Number 431320.
URL:https://hrpo.lsu.edu/event/science-academy-jupiter-2/
LOCATION:Highland Road Park Observatory
CATEGORIES:January 2026
END:VEVENT
BEGIN:VEVENT
DTSTART;TZID=America/Chicago:20260102T203000
DTEND;TZID=America/Chicago:20260102T220000
DTSTAMP:20260421T184009
CREATED:20260103T000334Z
LAST-MODIFIED:20260103T000334Z
UID:6436-1767385800-1767391200@hrpo.lsu.edu
SUMMARY:Evening Sky Viewing
DESCRIPTION:Cancelled. \nSunset\, 5:15pm CST. Twilight Ends\, 6:42pm CST. \nWeather permitting\, viewing through one or more telescopes will take place. During this time the Full Moon will be at a maximum altitude of 64° in Gemini. Please keep headlights off while parking and leaving. Drive slowly! [For ages six and older. No admission fee.] \nNOAA Forecast (Fair): precipitation potential 2%\, sky cover 75%\, relative humidity 90%\, temperature 21C\, wind SW 14 km/h
URL:https://hrpo.lsu.edu/event/evening-sky-viewing-190/
LOCATION:Highland Road Park Observatory
CATEGORIES:January 2026
END:VEVENT
END:VCALENDAR