BEGIN:VCALENDAR
VERSION:2.0
PRODID:-//Highland Road Park Observatory - ECPv6.15.20//NONSGML v1.0//EN
CALSCALE:GREGORIAN
METHOD:PUBLISH
X-WR-CALNAME:Highland Road Park Observatory
X-ORIGINAL-URL:https://hrpo.lsu.edu
X-WR-CALDESC:Events for Highland Road Park Observatory
REFRESH-INTERVAL;VALUE=DURATION:PT1H
X-Robots-Tag:noindex
X-PUBLISHED-TTL:PT1H
BEGIN:VTIMEZONE
TZID:America/Chicago
BEGIN:DAYLIGHT
TZOFFSETFROM:-0600
TZOFFSETTO:-0500
TZNAME:CDT
DTSTART:20250309T080000
END:DAYLIGHT
BEGIN:STANDARD
TZOFFSETFROM:-0500
TZOFFSETTO:-0600
TZNAME:CST
DTSTART:20251102T070000
END:STANDARD
BEGIN:DAYLIGHT
TZOFFSETFROM:-0600
TZOFFSETTO:-0500
TZNAME:CDT
DTSTART:20260308T080000
END:DAYLIGHT
BEGIN:STANDARD
TZOFFSETFROM:-0500
TZOFFSETTO:-0600
TZNAME:CST
DTSTART:20261101T070000
END:STANDARD
BEGIN:DAYLIGHT
TZOFFSETFROM:-0600
TZOFFSETTO:-0500
TZNAME:CDT
DTSTART:20270314T080000
END:DAYLIGHT
BEGIN:STANDARD
TZOFFSETFROM:-0500
TZOFFSETTO:-0600
TZNAME:CST
DTSTART:20271107T070000
END:STANDARD
END:VTIMEZONE
BEGIN:VEVENT
DTSTART;TZID=America/Chicago:20260306T173000
DTEND;TZID=America/Chicago:20260306T193000
DTSTAMP:20260420T134030
CREATED:20260227T224813Z
LAST-MODIFIED:20260306T224836Z
UID:6743-1772818200-1772825400@hrpo.lsu.edu
SUMMARY:The Edge of Night
DESCRIPTION:It’s not light. It’s not dark. It’s that special time called twilight and HRPO wants to introduce you to it! Are all sections of the sky the same shade of blue? Which stars are seen first? Are Mercury and Venus or the Moon out? Is that moving object a plane\, a weather balloon\, a satellite or debris in outer space? How much actual darkness should be expected in cities of a certain population? There is no other time like twilight. Bring it into your life! [For ages six and older. No admission fee.] \nNOAA Forecast (Good): precipitation potential 14%\, sky cover 29%\, relative humidity 75%\, temperature 26C\, wind SE 10 km/hr
URL:https://hrpo.lsu.edu/event/the-edge-of-night-5/
LOCATION:Highland Road Park Observatory
CATEGORIES:March 2026
END:VEVENT
END:VCALENDAR