BEGIN:VCALENDAR
VERSION:2.0
PRODID:-//Highland Road Park Observatory - ECPv6.15.20//NONSGML v1.0//EN
CALSCALE:GREGORIAN
METHOD:PUBLISH
X-WR-CALNAME:Highland Road Park Observatory
X-ORIGINAL-URL:https://hrpo.lsu.edu
X-WR-CALDESC:Events for Highland Road Park Observatory
REFRESH-INTERVAL;VALUE=DURATION:PT1H
X-Robots-Tag:noindex
X-PUBLISHED-TTL:PT1H
BEGIN:VTIMEZONE
TZID:America/Chicago
BEGIN:DAYLIGHT
TZOFFSETFROM:-0600
TZOFFSETTO:-0500
TZNAME:CDT
DTSTART:20250309T080000
END:DAYLIGHT
BEGIN:STANDARD
TZOFFSETFROM:-0500
TZOFFSETTO:-0600
TZNAME:CST
DTSTART:20251102T070000
END:STANDARD
BEGIN:DAYLIGHT
TZOFFSETFROM:-0600
TZOFFSETTO:-0500
TZNAME:CDT
DTSTART:20260308T080000
END:DAYLIGHT
BEGIN:STANDARD
TZOFFSETFROM:-0500
TZOFFSETTO:-0600
TZNAME:CST
DTSTART:20261101T070000
END:STANDARD
BEGIN:DAYLIGHT
TZOFFSETFROM:-0600
TZOFFSETTO:-0500
TZNAME:CDT
DTSTART:20270314T080000
END:DAYLIGHT
BEGIN:STANDARD
TZOFFSETFROM:-0500
TZOFFSETTO:-0600
TZNAME:CST
DTSTART:20271107T070000
END:STANDARD
END:VTIMEZONE
BEGIN:VEVENT
DTSTART;TZID=America/Chicago:20260307T100000
DTEND;TZID=America/Chicago:20260307T120000
DTSTAMP:20260420T134029
CREATED:20260302T025902Z
LAST-MODIFIED:20260302T025902Z
UID:6759-1772877600-1772884800@hrpo.lsu.edu
SUMMARY:Science Academy: "The Gemini Program"
DESCRIPTION:In May 1961\, the United States vowed to send human beings to the Moon before the onset of the 1970s. Project Gemini was the proving ground for the technology that would be needed. Cadets will be introduced to the exploits of the brave and fabled Gemini astronauts! [For ages eight to twelve. $5 per EBR-Parish Cadet; $6 per other-Parish Cadet.] \n[To register\, go to www.brec.org\, access the registration function and use Activity Number 131320.
URL:https://hrpo.lsu.edu/event/science-academy-the-gemini-program-2/
LOCATION:Highland Road Park Observatory
CATEGORIES:March 2026
END:VEVENT
BEGIN:VEVENT
DTSTART;TZID=America/Chicago:20260307T193000
DTEND;TZID=America/Chicago:20260307T220000
DTSTAMP:20260420T134029
CREATED:20260302T030433Z
LAST-MODIFIED:20260307T235506Z
UID:6761-1772911800-1772920800@hrpo.lsu.edu
SUMMARY:Evening Sky Viewing
DESCRIPTION:Cancelled. \nSunset\, 6:07pm CST. Twilight Ends\, 7:28pm CST. \nWeather permitting\, viewing through one or more telescopes will take place. During this time the waning gibbous Moon will be below the horizon. Please keep headlights off while parking and leaving. Drive slowly! [For ages six and older. No admission fee.] \nNOAA Forecast (Bad): precipitation potential 32%\, sky cover 64%\, relative humidity 88%\, temperature 24C\, wind S 5 km/hr
URL:https://hrpo.lsu.edu/event/evening-sky-viewing-202/
LOCATION:Highland Road Park Observatory
CATEGORIES:March 2026
END:VEVENT
END:VCALENDAR